Workbook

Sheet Лист1
A3: Анкетные данные учителей Русского языка и литературы ______________________________________________СОШ | C3: Анкетные данные учителей географии МКОУ "Акайталинская СОШ"
A4: ФИО (полностью) | B4: Дата рождения | C4: Образование, когда и что закончил (высш/средне спец) | D4: Должность преподаваемый предмет(в каких классах работает) | E4: Специальность по диплому, № | F4: Пед. стаж | G4: Результаты аттестации (год прохождения,высш/первая категория, соответствие,в каком году № приказа) | H4: Курсы повышения квалификации за последние 3 года (№ удостоверения, год и место прохождения) | I4: Технология по котор. работает | J4: Рук. РМО и ШМО | K4: Участие педагога в конкурсах профессионального Мастерства (республиканский , муниципальный этапы) | L4: Ученая степень, звания (указать какие) | M4: Заведованиие кабинетом(наименование кабинета) | N4: Имеющиеся награды
A5: Меджидов Хизри Хайрулаевич | B5: 24782 | C5: Высшее, 2008, РГПУ им. Герцена | D5: Главный инженер по труду и безопасности, учитель географии 5-11 кл., учитель ИЗО 5,6,7,9. | E5: Естесственнонаучное образование, ВБА №0449849 | F5: 22 | G5: первая, 2021 г., №03-16-300/21 от 1 июня 2021 г. | H5: №19-103-1292, 2023 г., Петрозаводск, "Современный урок географии в соответствии с требованиями ФГОС ООО и СОО" | I5: Здоровьесберегающая технология | J5: нет | K5: нет | L5: нет | M5: кабинет географии | N5: нет
A6: Капурова Дайганат Акаевна | B6: 18.05.1961 | C6: ДГПИ 1984 | D6: география 7-11кл | E6: География с дополнительной специальностью английский язык | F6: 33 | G6: соответствие | H6: махачкалинский центр повышения квалификации "Каспий" 2024г | I6: ние современных интерактивных методов обучения на уроках географии | J6: нет | K6: Самый классный классный-2018 2м на региональном этапе | M6: кабинет географии
A7: Меджидова Зарима Имнияминовна | B7: 28756 | C7: высшее РГПУ,2007истор. | D7: учит.географии | E7: История ВСГ № 1369345 | F7: 26 | G7: соотв. 27.01.2023 | H7: 18.08.2022 04 094535 | I7: " Применение современных образовательных технологий на уроках географии, как средство повышения качества обучения | M7: каб.геогр.
A8: Мугутдинова Патимат Анваровна | B8: 27047 | C8: высшее, ДГПУ,2000 | D8: директор, учитель географии 7-11классы | E8: учитель географии№0342025 | F8: 31 | G8: высшая, 27.04.2022 | H8: ГБУ ДПО РД "ДИРО" № 04 094523 с 04.08.2022г. по 18.08.2022г. | I8: Развитие познавательного интереса на уроках географии с использованием ИКТ | K8: учасник конкурса лучший учитель РД 2013г., 4 место Рес. Конкурс лидер образования 2013г. | L8: Победитель конкурса лучших учителей РФ 2009, почетная грамота Мин.природных ресурсов и экологии РД 2017год, | N8: « Почётный работник общего образования РФ» 2015г.,
A9: Далгатова Барият Гаджиевна | B9: 28708 | C9: высшее, ДГПУ,2002 | D9: учитель географии 5,6 классы | E9: учитель географии ИВС №0445482 | F9: 25 | G9: по графику в декабре | H9: ГБУ ДПО РД "ДИРО" № 04 098784 с 01.09.2022г. по 15.09.2022г. | I9: Изучение требований УМК по географии "Полярная звезда | M9: кабинет географии № 22
A10: Ибрагимова Нурият Абдулмуталимовна | B10: 32722 | C10: высшее ООО"Столичный центр образовательных технологий"Учитель географии; Преподавание географии в образовательной организации" | D10: учитель географии 5а.5б. 6а. 6б.7а.7б, 2б | E10: учитель географии по специальночсти "География" №ВСБ 0670185 | F10: 6 | G10: соответствие 2019 | H10: Институт дополнительного образования ФГБОУ ВО "Дагестанский государственный университет" № 0527 00000832 гМахачкала 2018год | I10: Развивающие позновательные активные технологии на уроках географии. | J10: нет | K10: нет | L10: нет | M10: нет | N10: нет
A11: Сулейманова Аминат Абдулмуминовна | B11: 29.04.1975г | C11: Высшее, ДГПУ, биолого - химический факультет, 1997г | D11: Учитель биологии 5, 9 - 11кл | E11: Учитель биологии с правом преподавания химии, №0087227 | F11: 27 | G11: Высшая, 2020г. | H11: ГБУ ДПО РД "Диро" 2022 №04 093630 | I11: здоровьесберегающая технололгия. Темасомообразования "Использование новых технологий как основа творческого развития учащихся на уроках биологии" | K11: "Учитель года -2014" республиканский , "Учитель здоровья -2014" республиканский, президентский грант 2012г. и 2018г. | M11: кабинет биологии | N11: грамоты и дипломы за участие в муницип и респуб конкурсах, Почетный работник РФ.
A12: Азизова Марият Магомедовна | B12: 34769 | C12: Высшее, ДГПУ 2016г. | D12: учитель биологии 6-8 кл | E12: Психолог | F12: 10 | H12: не прходила | I12: Здоровьесберегающая технология
A13: Мамаева Аминат Шариповна | B13: 26427 | C13: ДГПИ- 1996 | D13: педагог психолог, химия 9, 8а,8б | E13: уч.биологии химия ЭВ № 583890 | F13: 28 | G13: первая- №03-16-300/21 | H13: 050400016028 20023г."Образовательный центр Знание" | I13: Технология сотрудничества. | J13: нет | K13: не участвовала | L13: не имеет | M13: химии | N13: "Отличник образования РД." приказ 01-02-1-470/23 от 25.04.2023г.
A14: Омарова Курбангиз Магомедовна | B14: 29913 | C14: ДГПУ 2004 | D14: уч.биологии 5,6,7,8,9,10,11кл. | E14: химия биология ВСВ 0307415 | F14: 20 | G14: соответствие-14.05.2017 №152 | H14: 150000118636 2022г."Академия реализации государственной политики и профессионального развития работников образования Министерства РФ" | I14: технология сотрудничества. | J14: ШМО | K14: не участвовала | L14: не имеет | M14: кабинет биологии | N14: не имеет
A15: Мухидинова Патимат Мусагаджиевна | B15: 30635 | C15: ДГПУ-2005 | D15: Директор шкоы, учитель химии 11кл | E15: биолог химик ВСВ 1920667 | F15: 18 | G15: высшая | I15: развивающее обучение | J15: нет | K15: не участвовала | L15: не имеет | M15: не имеет | N15: не имеет
A16: Абдулаева Айшат Умахановна | B16: 30327 | C16: высшееДГПУ 2009г. | D16: учитель биологии 5-9кл | E16: учитель биологии ВСГ4229522 | F16: 20 | G16: соответствие пр. №58 от 26.11.2018 | H16: нет | I16: технология проблемного обучения | J16: нет | K16: нет | L16: нет | M16: нет | N16: нет
A17: Раджабов Магомед Камалутдинович | B17: 26446 | C17: средне спец., 1991, БПУ | D17: Биология 7-9 кл | E17: учитель труда и черчения, РТ№091460 | F17: 29 | G17: соответствие, прик.№ 64 от 01.09.2023г. | H17: 150000118826, 2022г., "Академия реализации государственной политики и профессионального развития работников образования Министерства просвещения РФ" | I17: Развитие познавательных интересов на уроках биологии | J17: нет | K17: нет | L17: нет | M17: нет | N17: нет
A18: Раджабова Калимат Абдулкеримовна | B18: 29643 | C18: высшее ДГПУ, 2008 | D18: директор, биология 5,6 кл | E18: учитель истории, ВСГ4226275 | F18: 23 | G18: соответствие, прик.№ 64 от 01.09.2023г. | H18: 150000118831, 2022г., "Академия реализации государственной политики и профессионального развития работников образования Министерства просвещения РФ" | I18: Современные технологии обучения | J18: нет | K18: нет | L18: нет | M18: нет | N18: Отличник образования РД,«25» апреля 2023 г. № 01-02-1-470/23
A19: Пахрутдинова Зоя Ивановна | B19: 28.12.1946г. | C19: Высшее КГУ 1982г. Фак.биологии | D19: Учитель биологии5,6,7,8,9,10,11 Итого 11н.ч. | E19: ЖВ 754980 фак.биологии | F19: 33 | G19: соответствие Пр№1 от 28.03.2022г | H19: Нано ДПО ОЦ г .МАхачкала Знание №5867 дата выдачи 18.12.2021г | I19: Проблемное обучение
A20: Мутайгаджиева Зульфия Абдуллаевна | B20: 25125 | C20: ДГУ 1993 | D20: учитель биологии | E20: учительбиологии и химии | F20: 31 | G20: соответствиеприказ №9/1 от 11.03.2024 | H20: 2023ДИРО,№8437 | I20: использование различных форм и методов активизации учебного процесса | J20: ассоциация учителей биологии | N20: Отличник образования РД приказ №01-02-1-275/24 от 15.03 2024
A21: Акаева Шуганат Камалтиновна | B21: 37404 | C21: ППК 2023г. среднее | D21: Биология 5-9 кл. | E21: 44.02.02 Преподавание в начальных классах 110518 0597739 | F21: 1 год | G21: нет | H21: 2024г. | I21: "«Применение новых образовательных технологий в преподавании биологии и химии в соответствии с ФГОС ООО»" | J21: нет | K21: нет | L21: нет | M21: нет | N21: нет
A22: Каибова Заира Сайдуллаевна | B22: 30593 | C22: высшее, БПК-2002, ДГПУ-2007 | D22: Заместитель руководителя (УВР), биология | E22: биология | F22: 22 | G22: соответствие, 2023г., приказ №27 | H22: 2020 | I22: Проектная технология | J22: нет | K22: Учитель года, муниц. этап | L22: Почётный работник РФ | M22: нет | N22: Грамоты
A23: Нурутдинова Зюльмира Гаджиевна | B23: 29978 | C23: высшее, ДГПУ-2004 | D23: учитель биологии | E23: экология | F23: 18 | G23: соответствие, 2023г., приказ №27 | H23: 2022 | I23: Здоровьесберегающая | J23: Рук. ШМО биол. и химия | K23: нет | L23: нет | M23: кабинет биологии | N23: нет
A24: Казакова Саида Магомедовна | B24: 12.09.1980 44 года | C24: высшее ДГПУ г.Мах. 2002г. Высшее | D24: уч.биологии 8-11 кл.; разг о важном-8кл | E24: уч.биологии и химии №ИВС 04466313 | F24: 22 | G24: высшая категория 1.09.2020г. 31050 | H24: Махачкала ДИРО 2022 | I24: Разв.познав.актив.технология на уроках биологии | J24: нет | K24: нет | L24: нет | M24: нет | N24: "Отличник образования РД" 2021г
A25: Канаматова Саида Алавутдиновна | B25: 22.08.1983г. 41 год | C25: высшее, ДГПУ 2005г. ВСГ 1035356 | D25: учитель биологии 5,6,7 классы | E25: учитель экологии | G25: б/к | H25: нет | J25: нет | K25: нет | L25: нет | M25: нет | N25: нет
A26: Меджидова Загидат Магомедалиевна | B26: 15.11.1984 г. | C26: высшее, ДГУ, биофак,2008 г. | D26: учитель биологии и химии (8-11 кл.) | E26: учитель биологии ВСГ № 2100387 | F26: 18 | G26: Высшая категория Приказ№ от 01.09.2020г | H26: "Реализация требований ФГОС третьего поколения ООО в работе учителя биологии и химии", 108 ч., № 050400012462, 19.11.2022 г., НАНО ДПО ОЦ ЗНАНИЕ | I26: личностно-ориентированная, здоровьесберегающая; тема "Формирование функциональной естественно-научной грамотности на уроках" | J26: нет | K26: нет | L26: нет | M26: кабинет биологии и химии № 18 | N26: Почетный работник в сфере образования РФ, Приказ от 22.06.2017 г. № 348/к-н
A27: Казиева Баху Абдулазизовна | B27: 17.11.1981 г. | C27: высшее, ДГУ,биофак, 2005 г. | D27: учитель биологии (5-11 кл.) | E27: учитель биологии ВСВ № 0784459 | F27: 20 | G27: Соответствие занимаемой должности | H27: ПК № 013735, 01.09.2022 г., МЦПК - Академии "Каспий" | I27: Гуманно-личностные и авторитарные технологии, тема "Развитие познавательной активности у учащихся на уроках биологии" | J27: нет | K27: нет | L27: нет | M27: нет | N27: нет
A28: Абдуллаева Мадина Зайнуллаевна | B28: 27284 | C28: высш, ДГПУ, эколого-геогр фак, 1996г | D28: учитель биол 8 б кл | E28: учитель географии и экологии УВ №543385 | F28: 28 | G28: высш 2024г №05-02-2-998/24 | H28: 2021г ДИРО 44395, 2022г Москва У--103335/Б Игровая, здоровьезб | I28: игровая, здоровьесбер | K28: Учитель - года 2008 мун - 2 м, Учитель года 2015 мун - 3 м | N28: президенский грант 2008
A29: Абдулаева Зюльфия Тажутдиновна | B29: 30658 | C29: высш ДГПУ фак экологии 2006 | D29: учитель биологии 5-11 кл | E29: учитель биологии ВСТ 1056676 | F29: 19 | G29: первая 2017г №604-10/17 | H29: 2022г Москва У -103155/Б | I29: разноуровневое обучение
A30: Османова Бурлият Османовна | B30: 29839 | C30: Высшее РГПУ, 2007 | D30: Уч. биологии | E30: Уч.биологии. № 1370954 | F30: 10 | G30: 24.10. 2019 первая № 2363-05/19 | H30: 2022 ПК 001429 | I30: Исслед.метод, в обуч-ии | J30: - | K30: - | L30: - | M30: Да | N30: -
A31: Кураева Рисалат Магомедкамиловна | B31: 33076 | C31: ДГПУ высш 2014,ДГПУ высш 2019 | D31: учитель биологии и химии | E31: Экономист-менеджер КВ№27346,Магистр№1005181091459 | F31: 7 | G31: Соответствие занимаемой должности Приказ №34/2 от 01.09.2024г. | H31: Махачкала Дагестанский институт развития образования 2022 г.Махачкала №04094603 | I31: Совершенствование методики и технологии преподавания биологии | M31: каб.химии
A32: Умаханова Айзанат Зайналабидовна | B32: 27894 | C32: ВысшееДГПУ факультет биологии 2007 г | D32: Учитель биологии 5-10 кл., | E32: Учитель биология ВСГ № 1994525 | F32: 26 | G32: Соответствие № 70 от 18.11.2022г | H32: 7.12.2022-13.12.2022г(40ч) ФГ 29.03.2022-12.05.2022г (36ч) ФГОС 30.10.2023-6.11.2023г. (36ч) ФГОС 26.04.2023-12.05.2024г(72ч) биология 18.10.2021-24.12.2021г (40ч) ФГОС 28.05.2024-24.06.2024г (144ч) Кл.рук | I32: « Развитие критического мышления в процессе проектной деятельности, использование электронных образовательных ресурсов на уроках биологии» | J32: ШМО естественно-математического цикла | K32: нет | L32: нет | M32: биология | N32: нет
A33: =[1]Лист1!A5 -> Далгатова Эльмира Алиевна | B33: =[1]Лист1!B5 -> 28165 | C33: =[1]Лист1!C5 -> Д ГПУ 2000 | D33: =[1]Лист1!D5 -> биологии 5,6,7,8,9,10,11 | E33: =[1]Лист1!E5 -> Учитель биологии | F33: =[1]Лист1!F5 -> 29 | G33: =[1]Лист1!G5 -> Высшая, Приказ №01-02-1-78 от 14.08.2024г. | H33: =[1]Лист1!H5 -> "Реализация требований обновленных ФГОС НОО, ФГОС ООО в работе учителя" 18.08.2022г.№1180, 2018 ГБОУ ДПО "ДИРО" | ... N33: =[1]Лист1!N5 -> нет
A34: =[2]Лист1!A5 -> Муртазаева Нурият Аликилычевна | B34: =[2]Лист1!B5 -> 26314 | C34: =[2]Лист1!C5 -> высшее, ДГПИ 1994г. | D34: =[2]Лист1!D5 -> директор, учитель биологии (5кл., 6кл., 7кл., 8кл., 9кл., 10кл., 11кл.), химии (8кл) | E34: =[2]Лист1!E5 -> учитель химии и биологии №395876 | F34: =[2]Лист1!F5 -> 20 | G34: =[2]Лист1!G5 -> 2022 г. высшая, приказ №01-01-620/22 от 15.07.2022г. | H34: =[2]Лист1!H5 -> ДИРО, 2022г, 2021г.,2020г., №у-107962/б; №2346; №44013; №22556; №30352; №29606; №32069; | ... N34: =[2]Лист1!N5 -> 0
A35: Идрисова Зарема Магомеднабиевна | B35: 30783 | C35: Высшее,ДГПУ 2006,Учит.экологии | D35: уч. биологии | E35: ВСА №0410772, рег.№9208 | F35: 19 | G35: 11.11.2019г. | H35: 45522 | I35: Работа с одаренными детьми через организацию проектной деятельности по биологии. | K35: Учитель года 2022
A36: Атаева Саида Нажбутдиновна | B36: 32287 | C36: 2010г.ДГПУ .Высшее | D36: Зам по УВР Биология ,география .5-9 | E36: Биология №21134 16 л. | F36: 19 | G36: Соответствие | H36: №044 2022 ДГУ | I36: Преподования биологии в условиях ФГОС второго поколения | J36: нет | K36: нет | L36: нет | M36: нет | N36: нет
A37: Мурадбекова Халимат Магомедрасуловна | B37: 33698 | C37: Высшее, ДГПУ 2013 | D37: учитель биологии 5-7,8 кл | E37: учитель химии и биологии К№68062 | F37: 11 | G37: соответствие 2020г. Пр№ 91/1 | H37: ДИРО 2021г. № 052414952871, ДИРО 2021г. № 052415813315, ДИРО 2021г. № 04078171, ДИРО 2022г. № 04094551 | I37: Обучение в сотрудничестве. Тема самообразования: Особенности преподавания биологии в условиях перехода на ФГОС | J37: нет | K37: нет | L37: нет | M37: да | N37: нет
A38: Гаджиева Джамиля Камиловна | B38: 32437 | C38: Высшее, ДГПУ 2011 | D38: учитель биологии 5-10,11 | E38: учитель биологии и педагог-психолог КГ №13505 | F38: 3 | G38: соответствие | H38: нет | I38: нет | J38: нет | K38: нет | L38: нет | M38: нет | N38: нет
A39: =[3]Лист1!A5 -> Гусейнова Шамай Шехахмедовна | B39: =[3]Лист1!B5 -> 30410 | C39: =[3]Лист1!C5 -> высшее ДГПУ 2006 | D39: =[3]Лист1!D5 -> учитель биологии 5,6,7,8,9 кл | E39: =[3]Лист1!E5 -> учитель биологии ВСБ №0739108 | F39: =[3]Лист1!F5 -> 21 | G39: =[3]Лист1!G5 -> 2023г, соответствие .приказ №21 от 02.03.2023г | H39: =[3]Лист1!H5 -> 2018 | ... N39: =[3]Лист1!N5 -> 0
A40: =[4]Лист1!A17 -> Газибекова Лайла Шугаибовна | B40: =[4]Лист1!B17 -> 22.11.1982г. | C40: =[4]Лист1!C17 -> вышее-ДГПУ -1.06.2001.г. | D40: =[4]Лист1!D17 -> учитель биологии-5-10кл. | E40: =[4]Лист1!E17 -> ЭкологияВСВ 0309652 1.06.2001г. | F40: =[4]Лист1!F17 -> 21 | G40: =[4]Лист1!G17 -> соответствие | H40: =[4]Лист1!H17 -> 04094974 № 461111 ГБУ ДПО РД "ДИРО" " Реализация требований обновленных ФГОС" НОО,ФГОС ООО в работе учителя" 2022г. (36ч.) | ... N40: =[4]Лист1!N17 -> Отличник образования РД | O40: =[4]Лист1!R17 -> 0 | P40: =[4]Лист1!S17 -> 0 | Q40: =[4]Лист1!T17 -> 0
A41: =[5]Лист1!A5 -> Джамавова Умият Абдурахмановна | B41: =[5]Лист1!B5 -> 25077 | C41: =[5]Лист1!C5 -> Высшее, 1990 г., НПИ | D41: =[5]Лист1!D5 -> Учитель химии и биологии; 9 е | E41: =[5]Лист1!E5 -> Химическая технология стекла и металла,УВ №448569 | F41: =[5]Лист1!F5 -> 31 | G41: =[5]Лист1!G5 -> Соотв. Занимой долж. Пр. №36 от 30.05.2022 | H41: =[5]Лист1!H5 -> 14.02.2020, №342409701513 АНО ДПО "Волгоградский институт профессионального роста" | ... N41: =[5]Лист1!N5 -> Нет
A42: =[5]Лист1!A6 -> Тохтарова Дина Мурадовна | B42: =[5]Лист1!B6 -> 30499 | C42: =[5]Лист1!C6 -> Высшее,ДГПУ | D42: =[5]Лист1!D6 -> Учитель биологии; 5,7,8 кл. | E42: =[5]Лист1!E6 -> Биология, ВСГ 1994529 | F42: =[5]Лист1!F6 -> 20 | G42: =[5]Лист1!G6 -> Первая, пр №995-05/20 от30 апр 2020 г. | H42: =[5]Лист1!H6 -> 11.09.2023 г. № ПК 018552; ЧУ ДПО Махачкалинский ЦПК-Академия "Каспий" | ... N42: =[5]Лист1!N6 -> Нет
A43: Казакова Саида Магомедовна | B43: 12.09.1980 44 года | C43: высшее ДГПУ г.Мах. 2002г. Высшее | D43: уч.биологии 8-11 кл.; разг о важном-8кл | E43: уч.биологии и химии №ИВС 04466313 | F43: 22 | G43: высшая категория 1.09.2020г. 31050 | H43: Махачкала ДИРО 2022 | I43: Разв.познав.актив.технология на уроках биологии | J43: нет | K43: нет | L43: нет | M43: нет | N43: "Отличник образования РД" 2021г
A44: Канаматова Саида Алавутдиновна | B44: 22.08.1983г. 41 год | C44: высшее, ДГПУ 2005г. ВСГ 1035356 | D44: учитель биологии 5,6,7 классы | E44: учитель экологии | G44: б/к | H44: нет | J44: нет | K44: нет | L44: нет | M44: нет | N44: нет
A45: =[6]Лист1!A5 -> Ханмагомедова Умусапият Устаровна | B45: =[6]Лист1!B5 -> 04.08.1960г. | C45: =[6]Лист1!C5 -> высш, ДГУ,1990г. | D45: =[6]Лист1!D5 -> учит.биологии 5-9 кл | E45: =[6]Лист1!E5 -> учит.биол.и химии № 122193 | F45: =[6]Лист1!F5 -> 34 | G45: =[6]Лист1!G5 -> соответствие, 2021г., Приказ №18 от 11.05.2021г. | H45: =[6]Лист1!H5 -> 2022г. ГБУ ДПО РД "ДИРО" №04 094957 | ... N45: =[6]Лист1!N5 -> не имеет
A46: =[7]Лист1!A5 -> Мигитинова Бурлият Пайзутиновна | B46: =[7]Лист1!B5 -> 33590 | C46: =[7]Лист1!C5 -> СГА-2015г | D46: =[7]Лист1!D5 -> биология ,8,9а,б | E46: =[7]Лист1!E5 -> 231000 Информатика и вычислительная техника №137724 | F46: =[7]Лист1!F5 -> 12 | G46: =[7]Лист1!G5 -> нет | H46: =[7]Лист1!H5 -> нет | ... N46: =[7]Лист1!N5 -> нет
A47: =[7]Лист1!A6 -> Умавова Наида Джанбековна | B47: =[7]Лист1!B6 -> 38384 | C47: =[7]Лист1!C6 -> ППК им.Расула Гамзатова г.Буйнакск | D47: =[7]Лист1!D6 -> биология ,5а, б, 6а,б,7б | E47: =[7]Лист1!E6 -> уч. начальных класов с дополнительной подготовкой в области информатики №127965 | F47: =[7]Лист1!F6 -> 2 | G47: =[7]Лист1!G6 -> нет | H47: =[7]Лист1!H6 -> нет | ... N47: =[7]Лист1!N6 -> нет
A48: =[8]Лист1!A52 -> Закарикаева Маи Салатгереевна | B48: =[8]Лист1!B52 -> 28487 | C48: =[8]Лист1!C52 -> ДГУ-1999 | D48: =[8]Лист1!D52 -> биология 5-11 | E48: =[8]Лист1!E52 -> биология | F48: =[8]Лист1!F52 -> 24 | G48: =[8]Лист1!G52 -> выс.№995-05/20 | H48: =[8]Лист1!H52 -> 04-18.08.2022 | ... N48: =[8]Лист1!N52 -> 0
A49: =[9]Лист1!A5 -> Атаев Ибрагим Атаевич | B49: =[9]Лист1!B5 -> 29153 | C49: =[9]Лист1!C5 -> Высшее ДГУ 2004г | D49: =[9]Лист1!D5 -> Профком химия,Биология, шахматы (2-9кл) | E49: =[9]Лист1!E5 -> учитель химии и биологии ВСВ№078357395 | F49: =[9]Лист1!F5 -> 24 | G49: =[9]Лист1!G5 -> 1 категория 05.08.2021г | H49: =[9]Лист1!H5 -> . Махачкала Министерство образования и науки РД. 2021г «Совершенствование профессиональных компетенций учителей биологии» № 052415817275 | ... N49: =[9]Лист1!N5 -> 0
A50: =[10]Лист1!A11 -> Абдуразакова Дженнет Халивовна | B50: =[10]Лист1!B11 -> 34112 | C50: =[10]Лист1!C11 -> ДГПУф-т эколого-географическое | D50: =[10]Лист1!D11 -> учит. Нач/кл., русск.язык - 2кл.. литературное чтение - 2кл, Матем-ка 2кл., .учит.биологии, географии, 5-9 кл. | E50: =[10]Лист1!E11 -> учит.биологии и экологии, № 100 518 109 1250 | F50: =[10]Лист1!F11 -> 5 | G50: =[10]Лист1!G11 -> соответствие занимаемой должности | H50: =[10]Лист1!H11 -> 0 | ... N50: =[10]Лист1!N11 -> 0
A51: =[11]Лист1!A19 -> Махдиев Исламитин Нуритинович | B51: =[11]Лист1!B19 -> 25501 | C51: =[11]Лист1!C19 -> ДГПУ-2006 | D51: =[11]Лист1!D19 -> Географ биология | E51: =[11]Лист1!E19 -> Эколог-1056697/091581 | F51: =[11]Лист1!F19 -> 35 | G51: =[11]Лист1!G19 -> соотв. №25/А от 20.07.24г. | H51: =[11]Лист1!H19 -> 050400011451-2022г.Махачкала | ... N51: =[11]Лист1!N19 -> 0

Sheet Лист2

Sheet Лист3
