Workbook

Sheet Лист1
A3: Анкетные данные учителей Русского языка и литературы ______________________________________________СОШ | C3: МБОУ "Атланаульская гимназия им.Ирчи Казака"
A4: ФИО (полностью) | B4: Дата рождения | C4: Образование, когда и что закончил (высш/средне спец) | D4: Должность преподаваемый предмет(в каких классах работает) | E4: Специальность по диплому, № | F4: Пед. стаж | G4: Результаты аттестации (год прохождения,высш/первая категория, соответствие,в каком году № приказа) | H4: Курсы повышения квалификации за последние 3 года (№ удостоверения, год и место прохождения) | I4: Индивидуальный маршрут учителя | J4: Рук. РМО и ШМО | K4: Участие педагога в конкурсах профессионального Мастерства (республиканский , муниципальный этапы) | L4: Ученая степень, звания (указать какие) | M4: Заведованиие кабинетом(наименование кабинета) | N4: Имеющиеся награды
A5: Капурова Дайганат Акаевна | B5: 18.05.1961 | C5: ДГПИ 1984 | D5: география 7-11кл | E5: География с дополнительной специальностью английский язык | F5: 33 | G5: соответствие | H5: махачкалинский центр повышения квалификации "Каспий" 2024г | I5: ние современных интерактивных методов обучения на уроках географии | J5: нет | K5: Самый классный классный-2018 2м на региональном этапе | M5: кабинет географии
A6: Меджидова Зарима Имнияминовна | B6: 28756 | C6: высшее РГПУ,2007истор. | D6: учит.географии | E6: История ВСГ № 1369345 | F6: 26 | G6: соотв. 27.01.2023 | H6: 18.08.2022 04 094535 | I6: " Применение современных образовательных технологий на уроках географии, как средство повышения качества обучения | M6: каб.геогр.
A7: Мугутдинова Патимат Анваровна | B7: 27047 | C7: высшее, ДГПУ,2000 | D7: директор, учитель географии 7-11классы | E7: учитель географии№0342025 | F7: 31 | G7: высшая, 27.04.2022 | H7: ГБУ ДПО РД "ДИРО" № 04 094523 с 04.08.2022г. по 18.08.2022г. | I7: Развитие познавательного интереса на уроках географии с использованием ИКТ | K7: учасник конкурса лучший учитель РД 2013г., 4 место Рес. Конкурс лидер образования 2013г. | L7: Победитель конкурса лучших учителей РФ 2009, почетная грамота Мин.природных ресурсов и экологии РД 2017год, | N7: « Почётный работник общего образования РФ» 2015г.,
A8: Далгатова Барият Гаджиевна | B8: 28708 | C8: высшее, ДГПУ,2002 | D8: учитель географии 5,6 классы | E8: учитель географии ИВС №0445482 | F8: 25 | G8: по графику в декабре | H8: ГБУ ДПО РД "ДИРО" № 04 098784 с 01.09.2022г. по 15.09.2022г. | I8: Изучение требований УМК по географии "Полярная звезда | M8: кабинет географии № 22
A9: Ибрагимова Нурият Абдулмуталимовна | B9: 32722 | C9: высшее ООО"Столичный центр образовательных технологий"Учитель географии; Преподавание географии в образовательной организации" | D9: учитель географии 5а.5б. 6а. 6б.7а.7б, 2б | E9: учитель географии по специальночсти "География" №ВСБ 0670185 | F9: 6 | G9: соответствие 2019 | H9: Институт дополнительного образования ФГБОУ ВО "Дагестанский государственный университет" № 0527 00000832 гМахачкала 2018год | I9: Развивающие позновательные активные технологии на уроках географии. | J9: нет | K9: нет | L9: нет | M9: нет | N9: нет
A10: Магомедова Барият Расуловна | B10: 25510 | C10: ДГПУ 2016 | D10: зма по УВР уч.геогр 5,6, 7, 8б, 8а,9,10,11 | E10: нач.кл.44.03.01 №1005242660220 | F10: 27 | G10: первая- №03-16-300/21 | H10: №04126498 2024год. "Повышение профисиональных компетенций ичителей географии на основе анализа типичных ошибок ГИА" | I10: технология сотрудничества. | J10: нет | K10: не участвовала | L10: не имеет | M10: география | N10: не имеет
A11: Асельдарова Гажар Батдаловна | B11: 31091 | C11: высшее ДГПУ 2007 | D11: география 5-9,11кл | E11: учитель географии | F11: 22 | G11: первая категория, 2022г. Пр№29 от 01.08.22г. | H11: №051801777373 2018 г ДГУ, №104205, 2022г., москва | I11: технология разви- вающего обучения | J11: ШМО естественно математического цикла | K11: нет | L11: нет | M11: каб. Географии | N11: нет
A12: Раджабова Заира Камаловна | B12: 25324 | C12: высшее,ДГПИ.1994,Начальные кл | D12: география 5.6.7, 8,9 | E12: педагогика и методика нач обучения, №077511 | F12: 35 | G12: соответствие, прик.№ 64 от 01.09.2023г. | H12: 50400003841, 2019г, Махачкала Образовательный центр Знание | I12: Самостоятельная работа на уроках географии | J12: нет | K12: нет | L12: нет | M12: нет | N12: нет
A13: Исмаилова Тажлы Гаджиевна | B13: 30277 | C13: РГПУ, 2012 | D13: учитель географии | E13: естественно-научное образование | F13: 14 | G13: соответствие от 11.03.2024.приказ № 9/1 | H13: 2023,ДИРО,№8572 | I13: Проблемно-поисковое обучение
A14: Агарагимова Ильмуханым Гаджимурадовна | B14: 29351 | C14: ДГПУ, 2002 | D14: учитель географии | E14: учитель биологии и химии | F14: 18 | G14: соответствие приказ № 9/1 от 11.03.2024 | H14: 2023,ДИРО,№8573 | I14: личностно-ориентированное обучениеи ИКТ в условиях ФГОС
A15: Юсупова Асият Гаджиевна | B15: 33092 | C15: РГПУ,2012 | D15: учитель географии | E15: естественно-научное образование | F15: 17 | G15: б/категории | H15: 2021,ДИРО,№445161 | I15: Проблемно-поисковое обучение
A16: Акаева Мадина Атаевна | B16: 30452 | C16: РГПУ им.А.И.Герцена | D16: География 5,6,7,8,9 | E16: География ВБА 0687421 | F16: 21 | G16: нет | H16: нет | I16: «Формирование навыков самооценки обучающихся в структуре учебной деятельности в рамках ФГОС НОО | J16: нет | K16: нет | L16: нет | M16: нет | N16: нет
A17: Минатуллаева Пахуздек Махтибековна | B17: 09.09.1975 49 лет | C17: высшее ДГПУ 2010г. ВСГ5574681 | D17: уч.географии 5-11кл. | E17: уч.биологи №ВСГ 5574681 | F17: 31 | G17: б/к | H17: Махачкала ДИРО 2022 | I17: разноуров.обучение на уроках биологии | J17: ШМО | K17: Учитель года 2017г. Место 3 | L17: нет | M17: нет | N17: нет
A18: Ражабова Джавгарат Абакарсидиковна | B18: 35157 | C18: Среднее специальное, БПК-2018, неоконченное высшее, ДГПУ , географический факультет | D18: учитель географии (5-11 кл.) | E18: учителть начальных классов, №110518 0436792 | F18: 4 | G18: нет | H18: Реализация требований обновленных ФГОС НОО и ФГОС ООО в работе учителя, 108 ч., № ПК 015300, 29.11.2022 г., МЦПК - Академия Каспий | I18: Гуманно-личностные технологии и тех-я сотрудничества, тема самообразования: "Использование ИКТ на уроках географии и во внеурочной деятельности в целях активизации учебно-познавательной деятельности и повышения качества образования учащихся" | J18: нет | K18: нет | L18: нет | M18: нет | N18: нет
A19: Шабагиева Саида Ахмедовна | B19: 31542 | C19: Высшее, ДГПУ-2008, географический факультет | D19: учитель географии 6-11 кл.) | E19: учитель географии, ВСА № 0518413 | F19: 14 | G19: нет | H19: нет | I19: Здоровьесберегающие технологии, тема самообразования: "Внедрение в образовательный процесс здоровьесберегающих технологий" | K19: нет | L19: нет | M19: нет | N19: нет
A20: Абдуллаева Мадина Зайнуллаевна | B20: 27284 | C20: высш, ДГПУ, эколого-геогр, 1996 | D20: учит геогр 5-10кл и биол 8кл | E20: учитель географии и экологии УВ №543385 | F20: 28 | G20: высш 2024 №05-02-2-998/24 | H20: 2021 ДИРО 44395, 2022г Москва У-103335/Б | I20: игровые технологии | J20: рук ШМО | K20: Учитель - года 2008 мун - 2 м, Учитель года 2015 мун - 3 м | N20: президенский грант 2008
A21: Устарханова Абам Агавовна | B21: 26444 | C21: высш, ДГПУ, геогр, 2003 | D21: учит геогр 6; 11кл | E21: учитель геогр ВСБ 0670208 28 | F21: 30 | G21: соответствие 2020г №25 | H21: 2023 ДИРО | I21: технология интегрированного обучения
A22: Магомедов Гасан Абдулаевич | B22: 17131 | C22: Высшее, ДГПИ,1985 | D22: Педагог-психолог, география | E22: География №510143 | F22: 56 | G22: 2019 первая | H22: 2021 | I22: Информац-коммунит-я тех-я | J22: - | K22: - | L22: - | M22: Да | N22: -
A23: Ашурилаева Сафият Шарапудиновна | B23: 36160 | C23: ДГПУ,высш 2021 | D23: учитель химии и биологии | E23: уч.химии и биологии №1005270001866 | F23: 1 | G23: Соответствие занимаемой должности Приказ №34/2 от 01.09.2024г. | H23: не проходила курсы | I23: Формирование естественнонаучной грамотности на уроках биологии
A24: Абдухалимова Хадижат Абдухалимовна | B24: 31433 | C24: РГПУ высш 2012,БПКср.спец 2005 | D24: зам.дир ИКТ,учитель географии | E24: уч.географии и нач.кл и информатики Р №10562 | F24: 19 | G24: Первая Приказ №11232-01/18 от 29 декабря 2018г. | H24: ДИРО 2023г.№050400016376 | I24: Использование ИКТ на уроках.
A25: Абдулмеджидова Макисат Сапигулаевна | B25: 23332 | C25: ДГПУ,высш,1986 | D25: зам.дир.по УВР,учитель географии | E25: уч.геогр. № 630225 | F25: 38 | G25: Высшая Приказ № 05-02-416/21 от 05.08.2021 | H25: ДИРО курсы ФГОС 2022г №04094612 | I25: Активизация учебно-познавательного процесса на уроках географии. | L25: Почетный работник РФ №191630 от 17.05.2012 | M25: каб.географии
A26: =[1]Лист1!A5 -> Хочаева Зульфия Закарьяевна | B26: =[1]Лист1!B5 -> 28109 | C26: =[1]Лист1!C5 -> РГПУ 2007 | D26: =[1]Лист1!D5 -> географии | E26: =[1]Лист1!E5 -> Учитель естествознания | F26: =[1]Лист1!F5 -> 31 | G26: =[1]Лист1!G5 -> соответсвие, 2019 | H26: =[1]Лист1!H5 -> "Реализация требований обновленных ФГОС НОО, ФГОС ООО в работе учителя" 18.08.2022г.ДИРО, 2023 | ... N26: =[1]Лист1!N5 -> нет
A27: =[1]Лист1!A6 -> Эльмурзаева Шамсият Арсеновна | B27: =[1]Лист1!B6 -> 30916 | C27: =[1]Лист1!C6 -> РГСУ 2008 ДГПУ 2023 | D27: =[1]Лист1!D6 -> география | E27: =[1]Лист1!E6 -> Учитель географии | F27: =[1]Лист1!F6 -> 3 | G27: =[1]Лист1!G6 -> соответсвие, 2019 | H27: =[1]Лист1!H6 -> "Реализация требований обновленных ФГОС НОО, ФГОС ООО в работе учителя географии" №485201 от 17.07.2023, ДИРО | ... N27: =[1]Лист1!N6 -> нет
A28: =[1]Лист1!A7 -> Хамаева Баку Абдурахмановна | B28: =[1]Лист1!B7 -> 29580 | C28: =[1]Лист1!C7 -> ДГПУ | D28: =[1]Лист1!D7 -> география | E28: =[1]Лист1!E7 -> Учитель | F28: =[1]Лист1!F7 -> 17 | G28: =[1]Лист1!G7 -> соответсвие, 2019 | H28: =[1]Лист1!H7 -> "Реализация требований обновленных ФГОС НОО, ФГОС ООО в работе учителя географии" | ... N28: =[1]Лист1!N7 -> нет
A29: =[2]Лист1!A5 -> Дайгимова Зухра Магомедовна | B29: =[2]Лист1!B5 -> 26072 | C29: =[2]Лист1!C5 -> высшее, РГУ 2007г. | D29: =[2]Лист1!D5 -> педагог-психолог, учитель истории (7кл., 8кл., 10кл.), обществознания (7кл.,8кл., 10кл.), география (10кл.) | E29: =[2]Лист1!E5 -> учитель истории №2253197 | F29: =[2]Лист1!F5 -> 23 | G29: =[2]Лист1!G5 -> соответствие, приказ №28 от 18.05.2023г. | H29: =[2]Лист1!H5 -> ДИРО, 2022г., 2021г., №у-105588/б, №44961, №45351 | ... N29: =[2]Лист1!N5 -> 0
A30: =[2]Лист1!A6 -> Алхуватова Разият Гаджиевна | B30: =[2]Лист1!B6 -> 30051 | C30: =[2]Лист1!C6 -> высшее, РГУ 2007г. | D30: =[2]Лист1!D6 -> социальный педагог, учитель истории (5кл., 6кл., 11кл.), обществознания(5кл., 6кл., 11кл.), географии (5кл., 6кл., 7кл., 8 кл., 9кл., 11кл.) | E30: =[2]Лист1!E6 -> учитель истории ВСГ №0309786 | F30: =[2]Лист1!F6 -> 21 | G30: =[2]Лист1!G6 -> соответствие, приказ №28 от 18.05.2023г. | H30: =[2]Лист1!H6 -> ДИРО, 2022г., 2021г., №449967, №44953, №45336, №025 | ... N30: =[2]Лист1!N6 -> 0
A31: Мамаева Умгани Абдулмеджидовна | B31: 28658 | C31: Высшее,ДГПУ 2013,Уч.географ.,Высшее,ДГПУ,2004,Препод.дошк.пед.и псих. | D31: уч. географии | E31: серия КБ №54597, рег. №37681 | F31: 23 | H31: 45273 | I31: Использование ЦОР по формированию естественно научной грамотности на уроках географии | M31: кабинет географии (№24)
A32: Дадаева Барият Османовна | B32: 31117 | C32: Высшее ДГПУ 2005,учитель географии | D32: уч. географии | E32: ВСВ 1988172 | F32: 16 | H32: 45378 | I32: Внедрение системно-деятельностного подхода на уроках географии. | J32: Руководитель МО
A33: Атаева Саида Нажбутдиновна | B33: 24 05 1988 | C33: высщее.2010.ДГПУ | D33: Зам.по УВР.Биолог.5-9кл | E33: Учитель биологии | F33: 19 | G33: Соответст. | H33: у-104276\б 29.12.2022 ФГАОУ | I33: "Здоровье сберигающая технология" | J33: Нет | K33: Нет | L33: Нет | M33: Нет | N33: Нет
A34: Пашаева Рувайдат Маликовна | B34: 08.04.1981г. | C34: Высшее,ДГПУ 2021г | D34: Учитель географии 5-8, кл. | E34: Учитель географии и туризм № ВСВ 0307509 | F34: 2 | G34: нет | H34: нет | I34: Развивающее обучение. Тема самообразования: Повышение эффективности урока географии через применение современных образовательных технологий. | J34: нет | K34: нет | L34: нет | M34: зав.каб.географии | N34: нет
A35: Османов Магомед Османович | B35: 15.03.1961 | C35: Высшее ХГУ,1992 | D35: учитель географии 9,10,11 | E35: у читель истории и обществознания ЦВ№67961330 | F35: 32 | G35: соответствие 2020 Пр 91/1 | H35: ДИРО ФГОС 2022 №04 094548 | I35: Развивающее обучение. Тема самообразования: Повышение эффективности урока географии через применение современных образовательных технологий. | J35: нет | K35: нет | L35: нет | M35: нет | N35: нет
A36: =[3]Лист1!A5 -> Лабазанов Абдула Набиевич | B36: =[3]Лист1!B5 -> 17.05.1998г | C36: =[3]Лист1!C5 -> неполное высшее ДГУ 2020 г | D36: =[3]Лист1!D5 -> учитель географии 5,6,7,8,9,10 кл | E36: =[3]Лист1!E5 -> Учитель географии №483100262900 | F36: =[3]Лист1!F5 -> 0 | G36: =[3]Лист1!G5 -> Приказ № 89 от 30.08.2024г соответствие | H36: =[3]Лист1!H5 -> 0 | ... N36: =[3]Лист1!N5 -> 0 | O36: =[3]Лист1!R5 -> 0
A37: =[4]Лист1!A10 -> Магомедов Багавтин Магомедович | B37: =[4]Лист1!B10 -> 26651 | C37: =[4]Лист1!C10 -> Высшее.РГПУ им А.И.Герцена, 2012г. | D37: =[4]Лист1!D10 -> Учитель географии (5-9 классы) | E37: =[4]Лист1!E10 -> "Естественнонаучное образование" | F37: =[4]Лист1!F10 -> 20 | G37: =[4]Лист1!G10 -> сответствие | H37: =[4]Лист1!H10 -> 2022,на платформе ФГАОУ ДПО «Академия Минпросвещения России» | ... N37: =[4]Лист1!N10 -> - | O37: =[4]Лист1!R10 -> 0 | P37: =[4]Лист1!S10 -> 0
A38: =[5]Лист1!A5 -> Шихова Бурлият Асадуллаевна | B38: =[5]Лист1!B5 -> 28536 | C38: =[5]Лист1!C5 -> Высшее, 2007 Российский государственный педагогический университет им. А И. Герцена. г. С- Петербург | D38: =[5]Лист1!D5 -> Учитель истории и географии, 5,6,8,10,11 кл. | E38: =[5]Лист1!E5 -> История ВСГ №2253224, География №050400003013 | F38: =[5]Лист1!F5 -> 20 | G38: =[5]Лист1!G5 -> Высшая, Пр. №03-16-300/21 от1.06.2021 г. | H38: =[5]Лист1!H5 -> №04 094734; 18.08.2022; ГБУ ДПО РД "ДИРО" | ... N38: =[5]Лист1!N5 -> Нет
A39: =[5]Лист1!A6 -> Аджиева Заира Арсаналиевна | B39: =[5]Лист1!B6 -> 31441 | C39: =[5]Лист1!C6 -> Высшее, 2009 г. ДГПУ | D39: =[5]Лист1!D6 -> Учитель истории, географии и ОДНКР; 5,6,7,8 кл | E39: =[5]Лист1!E6 -> История,ВСГ 4230696, география №050400002913 | F39: =[5]Лист1!F6 -> 17 | G39: =[5]Лист1!G6 -> Соответствует занимаемой должности | H39: =[5]Лист1!H6 -> 25.07.2023 г. (36 ч.) №04119545 25.07.2023 г. (36 ч.) №04 119440 17.07.2023 (36 ч.) | ... N39: =[5]Лист1!N6 -> Нет
A40: Минатуллаева Пахуздек Махтибековна | B40: 09.09.1975 49 лет | C40: высшее ДГПУ 2010г. ВСГ5574681 | D40: уч.географии 5-11кл. | E40: уч.биологи №ВСГ 5574681 | F40: 31 | G40: б/к | H40: Махачкала ДИРО 2022 | I40: разноуров.обучение на уроках биологии | J40: ШМО | K40: Учитель года 2017г. Место 3 | L40: нет | M40: нет | N40: нет
A41: =[6]Лист1!A5 -> Ханмагомедова Умусапият Устаровна | B41: =[6]Лист1!B5 -> 04.08.1960г. | C41: =[6]Лист1!C5 -> высш, ДГУ,1990г. | D41: =[6]Лист1!D5 -> учит. географии 5-9 кл | E41: =[6]Лист1!E5 -> учит.биол.и химии № 122193, переподготовка "география" №001174 | F41: =[6]Лист1!F5 -> 34 | G41: =[6]Лист1!G5 -> соответствие, 2021г., Приказ№18 от 11.05.2021г. | H41: =[6]Лист1!H5 -> 2022г. ГБУ ДПО РД "ДИРО" №04 094957 | ... N41: =[6]Лист1!N5 -> не имеет
A42: =[7]Лист1!A5 -> Амаева Бурлият Алискендеровна | B42: =[7]Лист1!B5 -> 06.09.1956г | C42: =[7]Лист1!C5 -> Высшее,ДГПИ-1984 г | D42: =[7]Лист1!D5 -> география 5а,б,6а,б,,7а,б,8,9а,б | E42: =[7]Лист1!E5 -> учитель географии №633484 | F42: =[7]Лист1!F5 -> 49 | G42: =[7]Лист1!G5 -> Высшая 2020г. | H42: =[7]Лист1!H5 -> МЦПК №052410748169 30.01 -13.02 2020 г | ... N42: =[7]Лист1!N5 -> нет
...

Sheet Лист2

Sheet Лист3
