Workbook

Sheet Лист1
A3: Анкетные данные учителей Русского языка и литературы ______________________________________________СОШ | C3: Анкетные данные учителей математики МКОУ "Акайталинская СОШ"
A4: ФИО (полностью) | B4: Дата рождения | C4: Образование, когда и что закончил (высш/средне спец) | D4: Должность преподаваемый предмет(в каких классах работает) | E4: Специальность по диплому, № | F4: Пед. стаж | G4: Результаты аттестации (год прохождения,высш/первая категория, соответствие,в каком году № приказа) | H4: Курсы повышения квалификации за последние 3 года (№ удостоверения, год и место прохождения) | I4: Технология по котор. работает | J4: Рук. РМО и ШМО | K4: Участие педагога в конкурсах профессионального Мастерства (республиканский , муниципальный этапы) | L4: Ученая степень, звания (указать какие) | M4: Заведованиие кабинетом(наименование кабинета) | N4: Имеющиеся награды
A5: Меджидова Марият Мусаевна | B5: 35022 | C5: Высшее, 2023, ДГПУ | D5: Учитель физики в 7 - 11 классах | E5: Учитель физики, №100518 1291131 | F5: 3 года | G5: соответствие, 2022 | I5: Проблемный метод | J5: нет | K5: нет | L5: нет | M5: нет | N5: нет
A6: Абакаров Абдурахман Солтанмурадович | B6: 27581 | C6: ДГПУ 1997 | D6: директор, физика 9-10кл | E6: Физика | F6: 26 | G6: соответствие | H6: Махачкалинский центр повышения квалификации 2019 | I6: Приёмы и методы формирования функциональной грамотности при изучении физики. | J6: нет | K6: Победитель муниципального этапа "Учитель года 2007" | L6: нет | M6: нет | N6: нет
A7: Исаева Жежей Камиловна | B7: 26437 | C7: ДГПИ 1994 | D7: физика 7-8кл, математика 8а,б | E7: Физика, математика, информатика | F7: 27 | G7: первая№2282 от 20.05.2014 | H7: Махачкалинский центр повышения квалификации 2020№052404710053 | I7: Развитие экспериментальных навыков на уроках физики в основной школе | J7: нет | K7: нет | L7: нет | M7: кабинет физики | N7: нет
A8: Мухтаритдинова Гаяханум Шанавазовна | B8: 03.07.1956г. | C8: высшее ДГПИ 1979г. Физмат | D8: учит.физики | E8: физика и математика № 673561 | F8: 45 | G8: соотв. 20.122023 | H8: 17.04.2023 ПК 016984 | I8: развивающ. Диф.обучение, " Повышение эффективности педагогического процесса и обеспечение качества образования через применение электронных образовательных ресурсов на уроках физики" | M8: каб.физики
A9: Татаева Патимат Ахмедовна | B9: 01.09.1961 г. | C9: Высшее.ДГПУ 1985 г. | D9: Учитель физики, 7а, 7б,8а, 8б,9,10,11 кл. | E9: Учитель физики и математики, №510229 | F9: 38 | G9: соответствие Приказ № 100/1 от 29.01.2018г. | H9: АНО ДПО "ЕДИНЫЙ ЦЕНТР ПОДГОТОВКИ КАДРОВ" г. Санкт- Петербург № 190719 0009052 с 21.09.2021г. по 11.10.2021г. | I9: Изучение требований ФГОС СОО по физике и информатике | M9: кабинет физики № 16 | N9: Почетный работник воспитания и просвещения РФ №228 от 10.08.2021г
A10: Бийсолтанова Исбаният Закарьяевна | B10: 18.07.1955. | C10: ДГПИ 1979 | D10: учитель физики 7-11 | E10: учитель физики и математики №Г-1673593 | F10: 45 | G10: соответствие 2019. 25.09.№ пр 83/2 | H10: №052410190446 .2019.Г.Махачкала "Межрегиональный центр профессиональных компетенций " | I10: Инновационная, "Развитие мыслительной деятельности в ходе решение задач по физике" | J10: нет | K10: нет | L10: нет | M10: кабинет физики | N10: нет | O10: Бугленская СОШ
A11: Абдулаев Магомед Миатович | B11: 20.12.1958г | C11: Высшее ДГУ 1983г | D11: учитель физики 7-9 кл | E11: Учитель физики № 678087 | F11: 41 | H11: ГБУ ДПО РД "ДИРО" 2022г № 04 093630 | I11: Использование ИКТ в деятельности учителя физики | M11: кабинет математики
A12: Магомедова Мукминат Магомедовна. | B12: 19652 | C12: БГПИ 1977 | D12: уч математики и физики 10,9,8 | E12: математик физик Б-1 № 366030 | F12: 47 | G12: соответствие-14.05.2017 №152 | I12: здоровье сберегающие технологии | K12: не участвовала | L12: не имеет | M12: кабинет математики | N12: "Отличник образования РД." приказ 01-02-1-1458/22 от 22.12.2022 | O12: МКОУ "Апшинская СОШ"
A13: Мааева Зайнаб Мааевна | B13: 28182 | C13: ДГПИ 1996г. | D13: уч математики и физики 5,6,7,10,11 | E13: уч математики и физики ЭВ №583904 21 | F13: 28 | G13: соответствие-14.05.2017 №152 | H13: 050400016028 20023г. "Образовательный центр Знание" | I13: здоровье сберегающие технологии | J13: ШМО | K13: не участвовала | L13: не имеет | M13: физики | N13: не имеет | O13: МКОУ "Апшинская СОШ"
A14: Гаджимахадова Мадина Магомедовна | B14: 35623 | C14: ДГПУ-2021г. | D14: уч.математики физики | E14: математик физики | F14: 4 | G14: соответствие-14.05.2017 №152 | I14: здоровье сберегающие технологии | K14: не участвовала | L14: не имеет | M14: не имеет | N14: не имеет | O14: МКОУ "Апшинская СОШ"
A15: Омарова Эльмиям Магомедовна | B15: 33621 | C15: ДГК 2014 | D15: уч.физики 8,10 | E15: уч.Математики информатики физики | F15: 9 | G15: соответствие-14.05.2017 №152 | I15: технология сотрудничества. | J15: нет | K15: не участвовала | L15: не имеет | M15: не имеет | N15: не имеет | O15: МКОУ "Апшинская СОШ"
A16: Асильдаров Батдал Сайгидович | B16: 18758 | C16: высше ДГПИ 1981г | D16: физика 7-9 кл. | E16: учит физики и математ | F16: 43 | G16: соответствие пр №63 от 5.09.2016 г | H16: №04065462 ДИРО 2020 | I16: технология разви- вающего обучения | J16: нет | K16: нет | L16: нет | M16: нет | N16: Почетный работник воспитания и просвещения РФ
A17: Исаев Магомед Алиасхабович | B17: 35896 | C17: ср.спец., БПК 2017г | D17: физика | E17: учитель нач.классов, 1105180346095 | F17: 7 | G17: соответствие, приказ № 64 от 01.09.2023г. | I17: Исследовательская деятельность на уроках физики | J17: нет | K17: нет | L17: нет | M17: нет | N17: нет | O17: МКОУ "Аркасская ООШ"
A18: Далгатова Галимат Джалюковна | B18: 25791 | C18: ДГПИ,1994 | D18: учитель физики | E18: учитель физики и астрономии | F18: 28 | G18: соответствиеприказ №9/1 от11.03.2024 | H18: 2023,ДИРО | I18: Дифференцированный подход к обучающимсяпри подготовке к ЕГЭ | O18: МКОУ "Верхнеказанищенская сош №2"
A19: Ибрагимов Али Юсупрович | B19: 05.09.1967г. | C19: Высшее. НАНО ДПО ОЦ ЗНАНИЕ г.Махачкала 2022г | D19: Учитель физики 7,8,9,10,11 кл | E19: Учитель физики №050400006079 переподготовка | F19: 29 | G19: соответствие Пр №1 от 28.03.2022г | H19: ДИРО 2022г.№ 04 093672 | I19: Развивающее обучение
A20: Салимбекова Саният Магомедтагировна | B20: 09.04.1993г | C20: ДГПУ 2017г , высшее | D20: физика с7-9классы | E20: Бакалавр. По направлению подготовки 44.03.05 "Педагогическое образование (с двумя профилями подготовки) "Физика" и "Математика" | F20: 11(11лет) | G20: нет | H20: нет | I20: Современные технологии обучения в условиях перехода на ФГОС,как средство повышения качества образования. | J20: нет | K20: нет | L20: нет | M20: нет | N20: нет | O20: Ванашинская ООШ
A21: Багавутдинов Абзайдин Магомедович | B21: 18664 | C21: высшее, ДГПИ-1979 | D21: учитель физики, астрономии | E21: физика и математика | F21: 44 | G21: Первая, 2022 | H21: 052402169934, 2020г., МЦПК | I21: ИКТ | J21: нет | K21: нет | L21: Отличник народного образования РФ | M21: кабинет физики | N21: Грамоты | O21: МБОУ "В-Казанищенская СОШ №1"
A22: Алиева Аймесей Камалутдиновна | B22: 13.01.1967 57 лет | C22: ДГУ г.Мах.1989 высшее | D22: уч.физики 7-11, разговоры о важном-8кл | E22: уч. Физик и информатики №РВ 226088 | F22: 35 | G22: высшая категория 30.04.2020 №995-05/20 | H22: Махачкала ДИРО 2017 | I22: развивающее обучение | J22: нет | K22: нет | L22: нет | M22: каб.физ. | N22: нет
A23: Гамзатова Зухра Магомедовна | B23: 03.01.1978 г. | C23: высшее, ДГПУ-2004 г. | D23: учитель физики (7-11 кл.) | E23: учитель физики,ВСБ № 0669794 | F23: 25 | G23: Соответствие занимаемой должности | H23: "Совершенствование предметных компетенций учителя физики по подготовке выпускников к ГИА", 72 ч., с 14.11.2022 г. по 25.11.2022 г., ГБУ ДПО РД "ДИРО". | I23: Личностно-ориентированная,т-я сотруднич-тва, тема самообразования "Естественно-научная грамотность на уроках физики" | J23: Рук-ль ШМО естест. научного направления | K23: нет | L23: нет | M23: кабинет физики и информатики № 12 | N23: нет
A24: Беркиханов Дагир Шихалиевич | B24: 18886 | C24: ДГУ физфак 1974 высшее | D24: учитель физики и информатики 11 кл | E24: преподаватель физики Я №478129 | F24: 49 | G24: 2018,высшая | H24: 2019Чеченск ИПКРО№59558 | I24: развивающее обучение | K24: Лучший учитель физики (респ 2м) 2020г зав каб физ и инф№1 | M24: каб инфор №1 | N24: Почетный работник, ветеран труда, отличник образования РД
A25: Шапиев Запир Ибрагимович | B25: 26189 | C25: ДГУ физфак 1993 высш | D25: учитель физики и информатики 8, 9, 10 кл | E25: физика, преподаватель физики и информатики СВ №375645 | F25: 29 | G25: 2017, высш №2373-11/17 МОН РД | H25: 2022г,2023г ДИРО | I25: ИКТ, проблемное | M25: каб инф №2
A26: Абдурахманов Абдурахман Гаджияевич | B26: 21976 | C26: Высшее ДГПИ, 1986 | D26: Физика, информ. | E26: Физик.матем №630350 | F26: 37 | G26: 2019 | H26: 2022 | I26: Технол-я реш-я изобр-х задач | J26: - | K26: - | L26: - | M26: Да | N26: Поч.работник общего образ.РФ
A27: Шахукова Калимат Юсуповна | B27: 32861 | C27: ДГПУ,высш.2012 | D27: учитель физик,матем. | E27: уч.физ-мат. КГ № 18416 | F27: 10 | G27: Соответствие занимаемой должности Приказ №34/2 от 01.09.2024г. | H27: АНО ДПО Национальный институт качества образования г.Москва серия 404 №1200230111 | I27: Тестирование на уроках математики с применение компьютера | O27: МБОУ "В-Дженгутайская СОШ
A28: Шихшабеков Башир Лабазанович | B28: 28628 | C28: ДГПУ,высш.2000 | D28: учитель физик,матем. | E28: уч.физ-мат. ДВС № 0342248 | F28: 18 | G28: Соответствие занимаемой должности Приказ №34/2 от 01.09.2024г. | H28: ДИРО г.Махачкала 2023г | I28: Развитие логического мышления на уроках математики. | M28: каб.физики | O28: МБОУ "В-Дженгутайская СОШ
A29: Абдухалимов Абдухалим Абдулмуталимович | B29: 20558 | C29: ДГПУ высш 1979 | D29: методист,учитель физики | E29: уч.физмат.№ 673551 | F29: 45 | G29: Соответствие занимаемой должности Приказ №34/2 от 01.09.2024г. | H29: 2015г Махачкалинский центр повышения квалификации №052403290378 | I29: Активизация мыслительной деятельности на уроках физики при решении задач | L29: Почетный работник РФ №138216 от25.04.2008 | O29: МБОУ "В-Дженгутайская СОШ
A30: Алиева Саният Анваровна | B30: 04.06.1966г. | C30: Высшее ДГПУ факультет математики 2001г | E30: учитель физики Диплом ПП 001134 | F30: 28 | G30: Соответствие приказ № 43А от 09.09.2021г | H30: 20.04.2021-15.06.2021г (физика-переподготовка) 11.09.2021-20.09.2021г(36ч) -ФГ 05.10.2022-9.11.2022г (72ч) 27.07.2023-10.08.2023Г (36ч) ФГОС 7.12.2022-13.12.2022г(40ч) ФГ 28.05.2024-24.06.2024г (144ч) Кл.рук | I30: «Формирование учебно-познавательной мотивации учащихся на уроках математики и информатики через технологию развития критического мышления» | J30: нет | K30: нет | L30: нет | M30: информатики | N30: нет
A31: =[1]Лист1!A5 -> Алиева Заида Алисултановна | B31: =[1]Лист1!B5 -> 21673 | C31: =[1]Лист1!C5 -> Высшее , ДГУ, 1982 | D31: =[1]Лист1!D5 -> Учитель физики | E31: =[1]Лист1!E5 -> Учитель физики | F31: =[1]Лист1!F5 -> 41 | G31: =[1]Лист1!G5 -> соответствие, 2019 | H31: =[1]Лист1!H5 -> Реализация требований обновленных ФГОС НОО, ФГОС ООО в работе учителя 18.08.2022г. | ... N31: =[1]Лист1!N5 -> Почетный работник РФ Приказ №235/н от 24.07.2023г.
A32: =[1]Лист1!A6 -> Кантиева Кусюм Паталиевна | B32: =[1]Лист1!B6 -> 23722 | C32: =[1]Лист1!C6 -> Высшее, ДГПИ, 1987 | D32: =[1]Лист1!D6 -> Учитель физики | E32: =[1]Лист1!E6 -> Учитель физики и математики | F32: =[1]Лист1!F6 -> 36 | G32: =[1]Лист1!G6 -> соответствие, 2019 | H32: =[1]Лист1!H6 -> "Реализация требований обновленных ФГОС НОО, ФГОС ООО в работе учителя" 18.08.2022г.Декабрь,2019, 051802291287,г. Махачкала,26.12.2019 | ... N32: =[1]Лист1!N6 -> нет
A33: =[1]Лист1!A7 -> Шамилова Мадина Мухумаевна | B33: =[1]Лист1!B7 -> 31167 | C33: =[1]Лист1!C7 -> Высшее | D33: =[1]Лист1!D7 -> Учитель физики | E33: =[1]Лист1!E7 -> Учитель физики | F33: =[1]Лист1!F7 -> 15 | G33: =[1]Лист1!G7 -> соответствие, 2019 | H33: =[1]Лист1!H7 -> Реализация требований обновленных ФГОС НОО, ФГОС ООО в работе учителя 18.08.2023г. | ... N33: =[1]Лист1!N7 -> нет
A34: =[2]Лист1!A5 -> Абдурахманов Абдурахман Гаджиявович | B34: =[2]Лист1!B5 -> 21916 | C34: =[2]Лист1!C5 -> высшее, ДГПИ 1982г. | D34: =[2]Лист1!D5 -> учитель физики(7кл., 8кл., 9кл., 10кл., 11кл.), математики (5кл.) | E34: =[2]Лист1!E5 -> учитель физики НВ №630350 | F34: =[2]Лист1!F5 -> 38 | G34: =[2]Лист1!G5 -> высшая, 2019г. | H34: =[2]Лист1!H5 -> ДИРО 2022г., №у-103420/б, №464608 | ... N34: =[2]Лист1!N5 -> 0 | O34: =[2]Лист1!Q5 -> 0 | P34: =[2]Лист1!R5 -> 0
A35: Исаева Ирайганат Пайзутдиновна | B35: 02.04.1987г. | C35: "высшее, ДГУ 2009, уч.физики" | D35: уч. физики | E35: ВСГ 3246481 | F35: 11 | H35: 45216 | I35: Метод проектов при изучении физики в классах ранней профилизации. | J35: Руководитель МО | K35: Учитель года 2023 | O35: МБОУ "Нижнеказанищенская гимназии имени А. Акаева"
A36: Исламова Рабият Арсланхановна | B36: 32845 | C36: Высшее,ДГПУ,Уч.физики и матем. 2012 | D36: уч. физики и математики | E36: серия КГ №18413, рег. №30863 | F36: 7 | H36: 45252 | I36: Проблемное обучение на уроках математики. | M36: кабинет математики (№ 23) | O36: МБОУ "Нижнеказанищенская гимназии имени А. Акаева"
A37: Габитов Рамазан Апасович | B37: 36858 | C37: ППК, Среднее специальное | D37: информатика, физика,ОБЖ зам по безопасности | E37: техник програмист №110515 0517187 | F37: 3 | G37: соответст. | H37: нет | I37: Развитие познавательной активности на уроках информатики путем внедрения ИКТ как средства повышения уровня образованности учащихся | J37: Нет | K37: Нет | L37: Нет | M37: Нет | N37: Нет
A38: Мамаева Зарима Айнутдиновна | B38: 29766 | C38: БПК_2001 ДГПУ-бакалавр,не оконченная магистратура | D38: учитель физики 7- 11 | E38: учитель физики и математики №100527 0002341 | F38: 21 | G38: соответствие 2021г. | H38: ДИРО "Учитель будущего" 2021г. Диро ФГОС 2022г.№ | I38: Здоровьесберегающие технологии. Тема самообразования: Реализация системно-деятельностного подхода в преподавании физики в условиях реализации ФГОС | J38: нет | K38: нет | L38: нет | M38: зав. кабинетом физики | N38: нет
A39: =[3]Лист1!A5 -> Гамзатов Ибрагим Тажутдинович | B39: =[3]Лист1!B5 -> 22828 | C39: =[3]Лист1!C5 -> ДГПИ 1986 физич. Фак | D39: =[3]Лист1!D5 -> Завуч по уч.части физика 7,8,9,10,11 | E39: =[3]Лист1!E5 -> учитель физики №510816 | F39: =[3]Лист1!F5 -> 39 | G39: =[3]Лист1!G5 -> приказ №74 от 30.08.2020г сооответсвие | H39: =[3]Лист1!H5 -> 28.03.2017г | ... N39: =[3]Лист1!N5 -> Почетная грамота РФ. Приказ №245/Н 23.10.2020 г.
A40: =[4]Лист1!A13 -> Вайланматов Забит Алиевич | B40: =[4]Лист1!B13 -> 12.12.1957г. | C40: =[4]Лист1!C13 -> вышее-ДГУ -1.06.1988.г. | D40: =[4]Лист1!D13 -> учитель матем. и физики 7-10кл. | E40: =[4]Лист1!E13 -> Физика НВ № 629228 | F40: =[4]Лист1!F13 -> 35 | G40: =[4]Лист1!G13 -> первая-2020г № 2720-05/20 | H40: =[4]Лист1!H13 -> 04094975 №" 461110 ГБУ ДПО РД "ДИРО" " Реализация требований обновленных ФГОС" НОО,ФГОС ООО в работе учителя" 2022г.(36ч.) | ... N40: =[4]Лист1!N13 -> 0 | O40: =[4]Лист1!Q13 -> МКОУ"Нижнеказанищенская СОШ№4" | P40: =[4]Лист1!R13 -> 0 | Q40: =[4]Лист1!S13 -> 0 | R40: =[4]Лист1!T13 -> 0
A41: =[5]Лист1!A5 -> Шугаибов Яхья Важидович | B41: =[5]Лист1!B5 -> 22210 | C41: =[5]Лист1!C5 -> Высшее 1984, ДГПИ | D41: =[5]Лист1!D5 -> Учитель физики, руководитель по безопасности, 7-11 кл | E41: =[5]Лист1!E5 -> Математика и физика, МВ 633157 | F41: =[5]Лист1!F5 -> 40 | G41: =[5]Лист1!G5 -> Соответствует занимаемой должности, Пр №19/3 от 28.05.2016 г. | H41: =[5]Лист1!H5 -> ПК №011221, 11.03.2022 г.; ЧУ ДПО Махачкалинский ЦПК-Академия «Каспий» | ... N41: =[5]Лист1!N5 -> Почетный работник общего образования РФ
A42: Алиева Аймесей Камалутдиновна | B42: 13.01.1967 57 лет | C42: ДГУ г.Мах.1989 высшее | D42: уч.физики 7-11, разговоры о важном-8кл | E42: уч. Физик и информатики №РВ 226088 | F42: 35 | G42: высшая категория 30.04.2020 №995-05/20 | H42: Махачкала ДИРО 2017 | I42: развивающее обучение | J42: нет | K42: нет | L42: нет | M42: каб.физ. | N42: нет
A43: =[6]Лист1!A5 -> Адуева Джавгарат Герейхановна | B43: =[6]Лист1!B5 -> 03.03.1969г. | C43: =[6]Лист1!C5 -> высш. ДГУ, 1994г. | D43: =[6]Лист1!D5 -> учит.физики,математ 7,8,9кл | E43: =[6]Лист1!E5 -> учит.физики и матем. № 376549 | F43: =[6]Лист1!F5 -> 27 | G43: =[6]Лист1!G5 -> соответствие, 2021г, Приказ №18 от 11.05.2021г. | H43: =[6]Лист1!H5 -> 2022г. ГБУ ДПО РД "ДИРО" № 04 094967 | ... N43: =[6]Лист1!N5 -> не имеет | O43: =[6]Лист1!Q5 -> 0 | P43: =[6]Лист1!R5 -> 0
A44: =[7]Лист1!A5 -> Абдурахманова Альбина Джамбулаевна | B44: =[7]Лист1!B5 -> 18.02.1991. | C44: =[7]Лист1!C5 -> Высшее ДГПУ - 2016 г. | D44: =[7]Лист1!D5 -> физика 7,8,9,10,11 | E44: =[7]Лист1!E5 -> математики и информатики № 100524 2659557 | F44: =[7]Лист1!F5 -> 11 | G44: =[7]Лист1!G5 -> Высшая Приказ № 5 02-2-276 от 12.07 24 года | H44: =[7]Лист1!H5 -> нет | ... N44: =[7]Лист1!N5 -> нет | O44: =[7]Лист1!Q5 -> 0 | P44: =[7]Лист1!R5 -> 0
A45: =[8]Лист1!A16 -> Яхияев Мухтар Гиличович | B45: =[8]Лист1!B16 -> 21741 | C45: =[8]Лист1!C16 -> ДГУ-1982 | D45: =[8]Лист1!D16 -> помощник директора | E45: =[8]Лист1!E16 -> физика | F45: =[8]Лист1!F16 -> 41 | G45: =[8]Лист1!G16 -> соответствие | H45: =[8]Лист1!H16 -> 06-24.11.2012 | ... N45: =[8]Лист1!N16 -> 0
A46: =[8]Лист1!A53 -> Исагаджиева Захра Магомедовна | B46: =[8]Лист1!B53 -> 28493 | C46: =[8]Лист1!C53 -> БПК-1998, ДГПУ-2004 | D46: =[8]Лист1!D53 -> физика 7-11 | E46: =[8]Лист1!E53 -> физика | F46: =[8]Лист1!F53 -> 26 | G46: =[8]Лист1!G53 -> выс.№995-05/20 | H46: =[8]Лист1!H53 -> 02.06-30.10.2020 | ... N46: =[8]Лист1!N53 -> 0
A47: =[9]Лист1!A6 -> Шихимова Маржанат Муртцалиевна | B47: =[9]Лист1!B6 -> 21697 | C47: =[9]Лист1!C6 -> высшее ДГПИ 1983г | D47: =[9]Лист1!D6 -> Директор. Физика и вер.статистики (7,8,9кл) | E47: =[9]Лист1!E6 -> Учитель математики КВ№360513 | F47: =[9]Лист1!F6 -> 45 | G47: =[9]Лист1!G6 -> Высшая № | H47: =[9]Лист1!H6 -> г. Махачкала «ДИРО» с 04.08.2022г по 18.08.2022г. «Реализация требований обновлённых ФГОС НОО, ФГОС ООО в работе учителя» № 04 094933 | ... N47: =[9]Лист1!N6 -> Почетный работник в сфере образования№ 235/н от 24 июля 2023г | O47: =[9]Лист1!Q6 -> МКОУ "ЧабанмахинскаяСОШ"
A48: =[10]Лист1!A17 -> Мамаев Анвар Магомедович | B48: =[10]Лист1!B17 -> 27054 | C48: =[10]Лист1!C17 -> ДГУ-4курс | D48: =[10]Лист1!D17 -> Уч. Физики химии | E48: =[10]Лист1!E17 -> Уч. Физики | F48: =[10]Лист1!F17 -> 25 | G48: =[10]Лист1!G17 -> соотв. №25/А от 20.07.24г. | H48: =[10]Лист1!H17 -> 04094931-2022г.Махачкала | ... N48: =[10]Лист1!N17 -> 0 | O48: =[10]Лист1!Q17 -> Чанкурбенская СОШ

Sheet Лист2

Sheet Лист3
