Workbook

Sheet Лист1
A3: Анкетные данные учителей Русского языка и литературы ______________________________________________СОШ | C3: Анкетные данные учителей информатики МКОУ "Акайталинская СОШ"
A4: ФИО (полностью) | B4: Дата рождения | C4: Образование, когда и что закончил (высш/средне спец) | D4: Должность преподаваемый предмет(в каких классах работает) | E4: Специальность по диплому, № | F4: Пед. стаж | G4: Результаты аттестации (год прохождения,высш/первая категория, соответствие,в каком году № приказа) | H4: Курсы повышения квалификации за последние 3 года (№ удостоверения, год и место прохождения) | I4: Технология по котор. работает | J4: Рук. РМО и ШМО | K4: Участие педагога в конкурсах профессионального Мастерства (республиканский , муниципальный этапы) | L4: Ученая степень, звания (указать какие) | M4: Заведованиие кабинетом(наименование кабинета) | N4: Имеющиеся награды
A5: Гасанов Абдула Гасанович | B5: 29329 | C5: Высшее, 2005, ДГПУ | D5: Учитель математики 5, 8, 9, 10 кл. Информатика 7-11 кл. Обществознание 10 - 11 кл. | E5: Учитель права по специальности "Юриспруденция", ВСГ 1035401 | F5: 24 | G5: высшая, 2020 г., №99505/20 от 30 апреля 2020 г. | H5: № 04 098205, 2022г., | I5: Информационно-коммуникационная | J5: нет | K5: нет | L5: нет | M5: Кабинет информатики | N5: нет
A6: Абакарова Айна Абакаровна | B6: 27978 | C6: ДГПУ 1998 | D6: зам по ИКТ | E6: «Математика» | F6: 27 | G6: высшая пр№3304 от 27.10.2020 | H6: 2020Махачкалинский центр повышения квалификации №052404040269 | I6: Повышение эффективности преподавания информатики с помощью применения новых образовательных технологий | J6: нет | K6: призер муниципального этапа "Учитель Дагестана-2016", победитель республиканского этапа конкурса "Самый классный классный" | M6: кабинет информатики | N6: Почетная грамота Минобр РД
A7: Джамалов Рустам Яхьяевич | B7: 08.12.1983г. | C7: высшее ДГПУ 2006 матем. | D7: учит.матем.и информ. | E7: математика и информатика ВСГ №1054314 | F7: 18 | G7: высшая 09.01.2024 | H7: 27.11.2021 № 04 080886 03.11.2023 04 123400 13.11.2023 04 124921 | I7: развивающ., "Совершенствование преподавания информатики, используя различные методы" | K7: Всеросс.конкурс «За нравственный подвиг учителя» (2м.,2023г респ.эт.) Урок информатики «Система счисления»( 2м.мун.эт.2024г) «Открытый урок с использованием ресурсов ЦО «Точка роста» (1м.респ.эт.2024г) | M7: кабинет информатики | N7: Отличник образования РД 25.04.2023 Пр. № 01-02-1-470/23
A8: Мамаева Солтанат Заирбековна | B8: 31188 | C8: БПК (среднеспец) 2005год | D8: Учитель информатики 8-11 классов | E8: учитель ИВТ, № 1140513 | F8: 17 | G8: соответствие, приказ № 100/1 29.01.2018г. | H8: ГБУ ДПО РД "ДИРО" № 04 094524 с 04.08.2022г. по 18.08.2022г. | I8: Компетентностый подход в преподавании математики | J8: рук.ШМО математики, физики, информатики, астрономии | M8: кабинет ИКТ №25
A9: Курбанова Патимаьт Магомедрасуловна | B9: 26.01.1996г | C9: высшее ДГПУ2019г | D9: учитель информатики7-9кл | E9: учиетль математики и информатики | F9: 12 | H9: ГБУ ДПО РД "ДИРО" 2023г №04 123731 | I9: использование ИКТ на уроках информатики
A10: Джаватова Айна Абдуллабековна | B10: 24838 | C10: ДГПИ 1990 высшее | D10: учитель математики и ОИВТ ,7-11. | E10: учитель математики, физики и ОИВТ | F10: 34 | G10: высшая 10.06 2022 | H10: 2022г Курсы по обнавленным ФГОС дистанционно | I10: Иновационная , | J10: - | K10: нет | L10: Почетный работник общего образования | M10: кабинет информатики | N10: нет
A11: Магомедова Патимат Газиевна | B11: 31799 | C11: ДГПУ 2022 | D11: информатика 7,8,9,10, 11,8б. | E11: учитель информатики 780500162187 | F11: 3 | G11: соответствие | H11: 04 120005 2023год "ДИРО" | I11: технология сотрудничества. | J11: нет | K11: не участвовала | L11: не имеет | M11: информатики | N11: не имеет
A12: Джамалутдинова Патимат Ахмедовна | B12: 34018 | C12: среднеспец БПУ | D12: математика 5,6 | E12: Учитель начальных классов с дополнительной подготовкой в области математики | F12: 0 | G12: соответствие пр №63 от 5.09.2016 г | I12: технология разви- вающего обучения | J12: нет | K12: нет | L12: нет | M12: нет | N12: нет
A13: Исаева Айшат Гаджимагомедовна | B13: 33309 | C13: высшее ДГИНХ 2012 г. | D13: Информатика 7-9 кл. | E13: прикладная информатика техник 05 СПА 0004622 | F13: 2 | G13: соответствие, прик.№ 64 от 01.09.2023г. | H13: нет | I13: Применение АМО (активных методов обучения) в целях совершенствования методики преподавания информатики | J13: нет | K13: нет | L13: нет | M13: нет | N13: нет
A14: Умарова Айзанат Авдурагимовна | B14: 19.12.1982г. | C14: ДГПУ г. фак-т математика и информатика | D14: Учитель Информатики 7,8,9,10,11. | E14: учитель математики и информатики | F14: 15 | G14: соответствие Пр № 1 от 01.11. 2021г | H14: Диро 2023г. | I14: Применение ИКТ на уроках информатики
A15: Амирбекова Зульфия Магомедовна | B15: 01.12.1983г | C15: ДГПУ 2007г (высшее) | D15: Завуч УВР информатика 7-9 кл | E15: Педагог-психолог ВСГ №1994461 | F15: 18лет(14лет) | G15: первая категория 2024г №05-02-2-43/24 | H15: нет | I15: Учебная мотивация современного школьника и педагога как необходимое условие эффективности обучения при ФГОС НОО ООО | J15: ШМО ст классов | K15: нет | L15: нет | M15: нет | N15: Отличник образования Приказ от 25.04.2023г № 01-02-1-470/23
A16: Атакова Заира Дагировна | B16: 31240 | C16: высшее, ДГИНХ-2014 | D16: учит. информатики 7,8,9,11 | E16: информатика | F16: 19 | G16: Соответсивие, 2022, приказ №29 | H16: 2020 | I16: ИКТ | J16: нет | K16: нет | L16: нет | M16: нет | N16: нет
A17: Мурзаева Айшат Мустафаевна | B17: 17.07.1989г 35 лет | C17: высшее, ДГТУ 2012г. К 65535 | D17: учит нформ. 7-11кл;разг о важном-6кл;Россия-мои горизонты-7кл | E17: учит. ИКТ | F17: 4 | G17: Б/к | H17: нет | I17: испол.игровых методов | J17: нет | K17: нет | L17: нет | M17: нет | N17: нет
A18: Яхияев Абдула Мухтарович | B18: 20.08.1984г. | C18: высшее, ДГУ-2006г. Фак-ет физ.-мат. | D18: учитель информатики ( 8-11 кл.) | E18: учитель физики, ВСВ-1847992 | F18: 20 | G18: Первая, Приказ МОН РД № 01-02-747/24 от 31.07.2024 | H18: № 04097986, 29.11.22, ГБУ ДПО РД "ДИРО" | I18: Здоровьесберегающая технология, тема "Повышение эффективности преподавания информатики с помощью применения новых образовательных технологиий" | J18: нет | K18: Конкурс школьных сайтов, 1 место, муниц.этап, 2015 г. | L18: нет | M18: нет | N18: нет
A19: Халунова Марьям Абдулбасировна | B19: 09.11.1991г. | C19: высшее, ДГПУ - 2014г. Фак-ет информат. | D19: учитель информатики ( 7 кл.) | E19: Педагог профессионального обучения,№507 - 1005240783953 | F19: 10 | G19: Высшая , приказ № от 30.04.2020 | H19: № 050400012131, 17.09.2022 г., НАНО ДПО ОЦ ЗНАНИЕ; "Программирование на языке Python при решении задач ГИА", 36 ч., с 22.11.2022 г. по 30.11.2022 г., ГБУ ДПО РД "ДИРО". | I19: Здоровьесберегающая технология, тема "Развитие мотивации на уроках информатики как средство повышения уровня обученности учащихся" | J19: нет | K19: нет | L19: нет | M19: нет | N19: нет
A20: Беркиханов Дагир Шихалиевич | B20: 18886 | C20: ДГУ физфак 1974 высшее | D20: учитель физики и информатики 8-11 кл | E20: преподаватель физики Я №478129 | F20: 49 | G20: 2018,высш | H20: 2019Чеченск ИПКРО№59558 | I20: развивающее обучение | J20: Лучш учит физики ( респ 2м) 2020г | M20: каб физ и инфор №1 | N20: Почетный работник, ветеран труда, отличник образования РД
A21: Шапиев Запир Ибрагимович | B21: 26189 | C21: ДГУ физфак 1993 высш | D21: учитель физики и информатики | E21: преподаватель физики и информатики СВ №375645 | F21: 29 | G21: 2017, высш №2373-11/17 МОН РД | H21: 2020ДИРО №34290, 2022г Диро,2023г ДИРО | I21: ИКТ, проблемное | M21: каб инф №2
A22: Абдурахманов Абдурахман Гаджияевич | B22: 21976 | C22: Высшее ДГПИ, 1986 | D22: Физика, информ. | E22: Физик.матем №630350 | F22: 37 | G22: 2019 | H22: 2022, №464608 | I22: Технол-я реш-я изобр-х задач | J22: - | K22: - | L22: - | M22: Да | N22: Поч.работник общего образ.РФ
A23: Алиева Саният Анваровна | B23: 04.06.1966г. | C23: Высшее ДГПУ факультет математики 2001г | D23: Учитель информатики 7-10 кл | E23: учитель математики АВС № 0181525 | F23: 28 | G23: Соответствие приказ № 43А от 09.09.2021г | H23: 20.04.2021-15.06.2021г (физика-переподготовка) 11.09.2021-20.09.2021г(36ч) -ФГ 05.10.2022-9.11.2022г (72ч) 27.07.2023-10.08.2023Г (36ч) ФГОС 9.10.2023-16.10.23г (36ч) инфор 7.12.2022-13.12.2022г(40ч) ФГ 28.05.2024-24.06.2024г (144ч) Кл.рук | I23: «Формирование учебно-познавательной мотивации учащихся на уроках математики и информатики через технологию развития критического мышления» | J23: нет | K23: нет | L23: нет | M23: информатики | N23: нет
A24: =[1]Лист1!A5 -> Гаджиев Магомед Алиевич | B24: =[1]Лист1!B5 -> 28050 | C24: =[1]Лист1!C5 -> ДГПИ 1999 | D24: =[1]Лист1!D5 -> учитель информатики | E24: =[1]Лист1!E5 -> Учитель информатики и математики | F24: =[1]Лист1!F5 -> 25 | G24: =[1]Лист1!G5 -> соответствие, 2019 | H24: =[1]Лист1!H5 -> "Реализация требований обновленных ФГОС НОО, ФГОС ООО в работе учителя" 18.08.2022г.600000584804, 17.09.2021, РАНХиГС | ... N24: =[1]Лист1!N5 -> Почетный работник общего образования РФ Приказ №802 от 03.06.2009г.
A25: =[2]Лист1!A5 -> Муртазаева Рашия Пейзуллаевна | B25: =[2]Лист1!B5 -> 32023 | C25: =[2]Лист1!C5 -> высшее, ДГПУ 2010г. | D25: =[2]Лист1!D5 -> учитель информатики (8кл, 9кл., 10кл., 11кл.), ОДНКНР (5кл., 6кл.) | E25: =[2]Лист1!E5 -> учитель информатики ВСА 0662619 | F25: =[2]Лист1!F5 -> 15 | G25: =[2]Лист1!G5 -> соответствие, приказ №28 от 18.05.2023г. | H25: =[2]Лист1!H5 -> ДИРО 2022г., №4403398, №у-107963/б | ... N25: =[2]Лист1!N5 -> 0
A26: Умарова Патимат Османовна | B26: 32630 | C26: Высшее,Саратовский гос.университет им.Н.Г.Чернышевского,Уч.матем 2012 | D26: уч. информатики | E26: серия КС №34120, рег. №17204, | F26: 12 | G26: 27.06.2019г. | H26: 45497 | I26: Использование обучающих квестов по информатике как средство формирования универсальных навыков (softskills) | N26: "Отличник образования РД"
A27: Габитов Рамазан Апасович | B27: 36858 | C27: ППК, Среднее специальное | D27: информатика, физика, зам по безопасности | E27: техник програмист №110515 0517187 | F27: 3 | G27: нет | H27: нет | I27: разноуровненый п нет | J27: нет | K27: нет | L27: нет | M27: нет | N27: нет
A28: Амирбекова Женнет Нурутдиновна | B28: 37507 | C28: БПУ им.Р.Гамзатова г.Буйнакск 2021 | D28: учитель нач. кл. и информатики 7-11 | E28: Учитель начальных классов и информатики № 1105180522745 | F28: 2 | G28: соответствие | H28: 2023 ДИРО ФГОС № | I28: Практическая работа учащихся на уроках информатики , как средство формирования и развития информационной культуры учащихся | J28: нет | K28: нет | L28: нет | M28: Нет | N28: нет
A29: Курбанова Зарипат Магомедовна | B29: 35932 | C29: БПК 2017 г. | D29: учитель нач. кл. и информатики 8-9 | E29: Учитель начальных классов и информатики № 110518 0344519 | F29: 7 | G29: Соответствие | H29: нет | I29: Информационно-коммуникационные технологии. Тема самообразования: Использование метода проектов на уроках информатики для развития творческой личности учащихся | J29: нет | K29: нет | L29: нет | M29: нет | N29: нет
A30: Валиюллаева Сугьанат Рашидовна | B30: 38351 | C30: БПК 2024г. | D30: учитель нач. кл. и информатики 7 | E30: Учитель начальных классов и информатики №110518 0678440 | F30: 0 | G30: Соответствие | H30: нет | I30: Применение активных методов обучения в целях совершенствования методики преподавания предмета «Информатика и ИКТ» в условиях реализации ФГОС | J30: нет | K30: нет | L30: нет | M30: нет | N30: нет
A31: =[3]Лист1!A28 -> Гаджиева Нюрьяна Имамутдиновна | B31: =[3]Лист1!B28 -> 09.09.1990г. | C31: =[3]Лист1!C28 -> средне спец.БПК 2010г | D31: =[3]Лист1!D28 -> Учитель информатики 7-10кл. | E31: =[3]Лист1!E28 -> учитель начальных классов с доп.подготовкой по информатике 05 ПА 0004116 | F31: =[3]Лист1!F28 -> 7 | G31: =[3]Лист1!G28 -> соответствие | H31: =[3]Лист1!H28 -> 0 | ... N31: =[3]Лист1!N28 -> 0 | O31: =[3]Лист1!S28 -> 0 | P31: =[3]Лист1!T28 -> 0
A32: =[4]Лист1!A5 -> Гашимова Зарипат Абакаровна | B32: =[4]Лист1!B5 -> 32051 | C32: =[4]Лист1!C5 -> Высшее ДГПУ , 2009 | D32: =[4]Лист1!D5 -> Учитель информатики; 6-11 кл | E32: =[4]Лист1!E5 -> Профессиональное обучение(информатика, вычислительная техника и компьютерные технологии) | F32: =[4]Лист1!F5 -> 14 | G32: =[4]Лист1!G5 -> Соотв. 2019 г. | H32: =[4]Лист1!H5 -> №04 094748; 18.08.2022; ГБУ ДПО РД "ДИРО" | ... N32: =[4]Лист1!N5 -> Нет
A33: Мурзаева Айшат Мустафаевна | B33: 17.07.1989г 35 лет | C33: высшее, ДГТУ 2012г. К 65535 | D33: учит нформ. 7-11кл;разг о важном-6кл;Россия-мои горизонты-7кл | E33: учит. ИКТ | F33: 4 | G33: Б/к | H33: нет | I33: испол.игровых методов | J33: нет | K33: нет | L33: нет | M33: нет | N33: нет
A34: =[5]Лист1!A5 -> Абдулаева Азизат Магомедхабибовна | B34: =[5]Лист1!B5 -> 01.05.1989г. | C34: =[5]Лист1!C5 -> высш.,ДГПУ 2013г. | D34: =[5]Лист1!D5 -> учит.информ.7-9кл | E34: =[5]Лист1!E5 -> информатика № 04005290 | F34: =[5]Лист1!F5 -> 12 | G34: =[5]Лист1!G5 -> соответствие, 2022г., Приказ №18 от 11.05.2022г | H34: =[5]Лист1!H5 -> 2022г. ДИРО № 04 087797 | ... N34: =[5]Лист1!N5 -> не имеет
A35: =[6]Лист1!A5 -> Мигитинова Бурлият Пайзутиновна | B35: =[6]Лист1!B5 -> 33590 | C35: =[6]Лист1!C5 -> СГА-2015г | D35: =[6]Лист1!D5 -> информатика 8,9а,б, | E35: =[6]Лист1!E5 -> 231000 Информатика и вычислительная техника №137724 | F35: =[6]Лист1!F5 -> 19 | G35: =[6]Лист1!G5 -> Соот № 7 2022 | H35: =[6]Лист1!H5 -> Формирование педагогической компетентности в области мативирования обучающихся на совершенствование личностных и регулятивных УУД. | ... N35: =[6]Лист1!N5 -> нет
A36: =[6]Лист1!A6 -> Умавова Дайганат Магомедовна | B36: =[6]Лист1!B6 -> 22.07.1980 г. | C36: =[6]Лист1!C6 -> Высшее ДГПУ-2020 | D36: =[6]Лист1!D6 -> информатика 7 кл | E36: =[6]Лист1!E6 -> Учитель истории №0518546 | F36: =[6]Лист1!F6 -> 16 | G36: =[6]Лист1!G6 -> Соот № 9 2023 | H36: =[6]Лист1!H6 -> нет | ... N36: =[6]Лист1!N6 -> нет
A37: =[7]Лист1!A13 -> Абдурахманов Юсуп Жамалдинович | B37: =[7]Лист1!B13 -> 33317 | C37: =[7]Лист1!C13 -> ДГПУ-2014 | D37: =[7]Лист1!D13 -> зам.директора по ИКТ,информатика 8-11 | E37: =[7]Лист1!E13 -> информатика | F37: =[7]Лист1!F13 -> 10 | G37: =[7]Лист1!G13 -> соответствие | H37: =[7]Лист1!H13 -> 04123423 30.10-3.11.2023 | ... N37: =[7]Лист1!N13 -> 0
A38: =[7]Лист1!A58 -> Османова Наида М-нуцаловна | B38: =[7]Лист1!B58 -> 34213 | C38: =[7]Лист1!C58 -> ДГПУ-2013 | D38: =[7]Лист1!D58 -> информатика | E38: =[7]Лист1!E58 -> информатика | F38: =[7]Лист1!F58 -> 0 | G38: =[7]Лист1!G58 -> соответствие | H38: =[7]Лист1!H58 -> не прошла | ... N38: =[7]Лист1!N58 -> 0
A39: =[8]Лист1!A29 -> Саламов Рашидхан Камалутдинович | B39: =[8]Лист1!B29 -> 21693 | C39: =[8]Лист1!C29 -> ДГПИ-1992 | D39: =[8]Лист1!D29 -> Зам по ИКТ. Инф | E39: =[8]Лист1!E29 -> Уч.математики и информатики176675 | F39: =[8]Лист1!F29 -> 45 | G39: =[8]Лист1!G29 -> высшая категория-2020 | H39: =[8]Лист1!H29 -> 04 121991-2023 г.Махачкала | ... N39: =[8]Лист1!N29 -> 0

Sheet Лист2

Sheet Лист3
