Workbook

Sheet Лист1
A3: Анкетные данные учителей Русского языка и литературы ______________________________________________СОШ | C3: Анкетные данные учителей МКОУ СОШ (ООШ, НОШ)
A4: ФИО (полностью) | B4: Дата рождения | C4: Образование, когда и что окончил (высш/средне спец, неполное высшее) | D4: Должность, преподаваемый предмет (в каких классах работает) | E4: Специальность по диплому, № диплома | F4: Пед. стаж (общий, педагогический) | G4: Результаты аттестации (год прохождения, высш/первая категория, соответствие, в каком году № приказа) | H4: Курсы повышения квалификации за последние 3 года (№ удостоверения, год и место прохождения) | I4: Индивидуальный образовательный маршрут (тема самообразования) | J4: Рук. школьной методической секции учителей (ШМО) | K4: Участие педагога в конкурсах профессионального мастерства (республиканский , муниципальный, школьный этапы) | L4: Ученая степень, звание (указать какие), указать № приказа и дату | M4: Заведование предметным кабинетом (наименование кабинета) | N4: Имеющиеся награды, (указать № приказа и дату)
A5: Мамаева Хадижат Джалалутдиновна | B5: 18.12.1961 | C5: ДГПУ | D5: методист | E5: учитель истории | F5: 41 | G5: высшая | H5: Махачкалинский центр повышения квалификации 2020№052404710073 | I5: Формирование и развитие функциональной грамотномсти младших школьников на уроках русского языка | J5: нет | K5: нет | L5: нет | M5: нет | N5: нет
A6: Дадаева Гульбарият Юсуповна | B6: 27422 | C6: высшее ДГПУ 2007 филфак | D6: библиотекарь | E6: Рус. яз. и лит. ВСГ № 1994559 | F6: 17 | G6: соотв. 20.122023 | H6: 04.10.2022 ПК 014188 26.09.2022 ПК 014169 22.05.2023 150000301034 | I6: Школьная библиотека и гражданско - патриотическое воспитание подрастающего поколения | O6: МБОУ "Н-Дженгутаевская СОШ"
A7: Абдурахманова Джаминат Агавовна | B7: 28914 | C7: высшее РГПУ 2007 истор. | D7: учитель русс.языка и лит-ры | E7: История ВСГ № 2253184 | F7: 26 | G7: соотв. 27.01.2023 | H7: 17.04.2023 ПК 016984 20.11.2023 ПК 021739 | I7: Повышение читательского интереса, через создание современной, эффективной, комфортной развивающей образовательной среды | O7: МБОУ "Н-Дженгутаевская СОШ"
A8: Идрисова Зарема Шарабутдиновна | B8: 33442 | C8: ДГУ 2015 вычшее | D8: учитель истории , финансовая грамотность 5а. 6а.6б. 8б.8а11.. | E8: № 100505 0017901 Магист по направлению подготовки 030600.68 История | F8: 5 | G8: соответствие 10.02.2021 | H8: 08.2020 ДИРО | I8: проблемное обучение. "Повышение качества знаний учащихся на уроках " | J8: нет | K8: нет | L8: нет | M8: нет | N8: нет | O8: Бугленская СОШ
A9: Хайбулаева Асият Магомедовна | B9: 19.01.1989г. | C9: Высшее ДГПУ 2013г. Исторический | D9: финансовая грамотность интегрированно с предметом "Обществознания" 5-9 кл | E9: учитель истории, № ВСГ4232952 | F9: 15 | H9: ГБУ ДПО "ДИРО" 2024г №04 126218 | I9: ИКТ технологии
A10: Казиева Аишат Хажаровна | B10: 21380 | C10: высшее ДГПИ 1980 | D10: учитель английского языка 2-9 кл | E10: учитель английского и немецкого языков | F10: 44 | G10: соответствие пр №63 от 5.09.2016 г | H10: №040000234122 2020 г. Москва, №04067129 2020г. Диро | I10: технология игрвого обучения | J10: нет | K10: нет | L10: нет | M10: нет | N10: нет
A11: Солтанбекова Бажив Абдуллаевна | B11: 11.05.1972г | C11: Высшее. ДГПУ 2006г. гор.Махачкала переподготовка НАНОДЦО ОЦ ЗНАНИЕ 2022г. | D11: Учитель географии 5,6,7,8,9,10,11кл | E11: ВСГ 1056625 учитель истории, переподготовка учитель географии №050400006074 | F11: 21 | G11: соответствиеПр.№1 от 28.03.2022г | H11: ДИРО г. Махачкала №у-109209/бдата выдачи12.05.2022г | I11: Равноуровневое обучении на уроках географии
A12: Умарова Айзанат Авдурагимовна | B12: 19.12.1982г. | C12: ДГПУ 2023 год фак-т математики и информатики | D12: финонсовая грамотность 5 кл | E12: Учитель финансовой грамотности | F12: 15 | G12: соответствие Пр № 1 от 01.11. 2021г | H12: Ц.Н.П.М.П.Р..№052414952270 г. Махачкала 2021г.
A13: Амирбекова Зульфия Магомедовна | B13: 01.12.1983г | C13: ДГПУ 2007г (высшее) | D13: финансовая грамотность 5-8 кл | E13: Педагог-психолог ВСГ №1994461 | F13: 18лет(14лет) | G13: первая категория 2024г №05-02-2-43/24 | H13: нет | I13: Учебная мотивация современного школьника и педагога как необходимое условие эффективности обучения при ФГОС НОО ООО | J13: ШМО ст классов | K13: нет | L13: нет | M13: нет | N13: Отличник образования Приказ от 25.04.2023г № 01-02-1-470/23 | O13: МКОУ "Ванашинская ООШ"
A14: Гусейнова Мадинат Пайзуллаевна | B14: 29234 | C14: высш РГПУ,2009г | D14: Рук Точки роста и учит фин грам 5-7кл | E14: экономист по спец Нац экономика ВСГ №3930179; 2021г-переподг в МЦПК пед обр-е:информатика и ИКТ №3745 | F14: 22 | G14: соответств 2020г №25 | H14: 2022г ДИРО №471268; в 2022г образов центр "Мой университит" г.Петрозаводск №31-8-247 РК 3101034248 | I14: Проектная технолог.
A15: Османова Бурлият Османовна | B15: 29839 | C15: Высшее РГПУ, 2007 | D15: Учитель биологии | E15: Учитель биологии №1370954 | F15: 10 | G15: 24.10. 2019 первая № 2363-05/19 | I15: 2022 | J15: - | K15: - | L15: - | M15: Да | N15: -
A16: Умаханова Айзанат Зайналабидовна | B16: 27894 | C16: ВысшееДГПУ факультет биологии 2007 г | D16: Учитель биологии 5-10кл., | E16: Учитель биология ВСГ № 1994525 | F16: 26 | G16: Соответствие № 70 от 18.11.2022г | H16: 7.12.2022-13.12.2022г(40ч) ФГ | I16: « Развитие критического мышления в процессе проектной деятельности, использование электронных образовательных ресурсов на уроках биологии» | J16: ШМО естественно-математического цикла | K16: нет | L16: нет | M16: биология | N16: нет
A17: =[1]Лист1!A5 -> Гаджиев Магомед Алиевич | B17: =[1]Лист1!B5 -> 28050 | C17: =[1]Лист1!C5 -> ДГПИ 1999 | D17: =[1]Лист1!D5 -> учитель финансовой грамотности | E17: =[1]Лист1!E5 -> Учитель информатики и математики | F17: =[1]Лист1!F5 -> 25 | G17: =[1]Лист1!G5 -> соответствие, 2019 | H17: =[1]Лист1!H5 -> 600000584804, 17.09.2021, РАНХиГС | ... N17: =[1]Лист1!N5 -> Почетный работник общего образования РФ
A18: =[2]Лист1!A5 -> Муртазаева Рашия Пейзуллаевна | B18: =[2]Лист1!B5 -> 32023 | C18: =[2]Лист1!C5 -> высшее, ДГПУ 2010г. | D18: =[2]Лист1!D5 -> учитель информатики (8кл, 9кл., 10кл., 11кл.), ОДНКНР (5кл., 6кл.) | E18: =[2]Лист1!E5 -> учитель информатики ВСА 0662619 | F18: =[2]Лист1!F5 -> 15 | G18: =[2]Лист1!G5 -> соответствие, приказ №28 от 18.05.2023г. | H18: =[2]Лист1!H5 -> ДИРО 2022г., №4403398, №у-107963/б | ... N18: =[2]Лист1!N5 -> 0 | O18: =[2]Лист1!Q5 -> 0
A19: =[2]Лист1!A6 -> Алимова Нурипат Ибадуллаевна | B19: =[2]Лист1!B6 -> 36969 | C19: =[2]Лист1!C6 -> среднее, БПК, 2020г. | D19: =[2]Лист1!D6 -> учитель нач. кл. (4кл.), англ. Яз. (2,3,4 кл), финансовая грамотность 4кл. | E19: =[2]Лист1!E6 -> учитель нач.кл. | F19: =[2]Лист1!F6 -> 5 | G19: =[2]Лист1!G6 -> 0 | H19: =[2]Лист1!H6 -> 0 | ... N19: =[2]Лист1!N6 -> 0 | O19: =[2]Лист1!Q6 -> 0
A20: Шамилова Залина Ахмедовна | B20: 28.08.1969г. | C20: Начал.БПУ 1988г.,Высшее, ДГПИ 1995г | D20: Учитель по финансовой грамотности 4а,б,в, г | E20: Учитель начальных классов.ЭВ № 100014 | F20: 34 | G20: Соответствие 2021г.Пр№149 | H20: ДИРО 2019г. № 6180 | I20: Обучение в сотрудничестве. Тема самообразования: Формирование финансовой грамотности в начальной школе | J20: нет | K20: нет | L20: нет | M20: нет | N20: нет
A21: =[3]Лист1!A5 -> Шугаибова Асият Изамутдиновна | B21: =[3]Лист1!B5 -> 21978 | C21: =[3]Лист1!C5 -> Высшее, 1996 МИПП | D21: =[3]Лист1!D5 -> Учитель музыки и обществознания, 5-7 кл | E21: =[3]Лист1!E5 -> Юриспруденция, МП №001650 | F21: =[3]Лист1!F5 -> 44 | G21: =[3]Лист1!G5 -> Высшая, пр. №01-01-1132/22 от 14.06.2022г. | H21: =[3]Лист1!H5 -> №04 094733; 18.08.2022; ГБУ ДПО РД "ДИРО" | ... N21: =[3]Лист1!N5 -> Почетный работник-2010
A22: =[3]Лист1!A6 -> Аджиева Заира Арсаналиевна | B22: =[3]Лист1!B6 -> 31441 | C22: =[3]Лист1!C6 -> Высшее, 2009 г. ДГПУ | D22: =[3]Лист1!D6 -> Учитель истории и обществознания,9 а кл | E22: =[3]Лист1!E6 -> История,ВСГ 4230696 | F22: =[3]Лист1!F6 -> 17 | G22: =[3]Лист1!G6 -> Соответствует занимаемой должности | H22: =[3]Лист1!H6 -> 25.07.2023 г. №04119545 (36 ч.) 17.07.2023 №04119440(36 ч.) ГБУ ДПО РД «ДИРО» | ... N22: =[3]Лист1!N6 -> Нет
A23: =[4]Лист1!A5 -> Магомедова Саният Абдулатиповна | B23: =[4]Лист1!B5 -> 13.04.1980г. | C23: =[4]Лист1!C5 -> высш,РГПУ,2007г. | D23: =[4]Лист1!D5 -> учит.истории и обществозн.,5-9кл, фин.грамот | E23: =[4]Лист1!E5 -> учит.истории № 1369878 | F23: =[4]Лист1!F5 -> 19 | G23: =[4]Лист1!G5 -> соответствие, 2022г., Приказ №18 от 11.05.2022г. | H23: =[4]Лист1!H5 -> 2022г.ДИРО, 04 094960 | ... N23: =[4]Лист1!N5 -> не имеет
A24: =[4]Лист1!A6 -> Абдулаева Азизат Магомедхабибована | B24: =[4]Лист1!B6 -> 01.05.1989г. | C24: =[4]Лист1!C6 -> высш.,ДГПУ 2013г. | D24: =[4]Лист1!D6 -> учитель информатики | E24: =[4]Лист1!E6 -> информатика № 04005290 | F24: =[4]Лист1!F6 -> 12 | G24: =[4]Лист1!G6 -> соответствие, 2022г. Приказ №18 от 11.05.2022 | H24: =[4]Лист1!H6 -> 2021г.РАНХиГС, №001214 | ... N24: =[4]Лист1!N6 -> не имеет

Sheet Лист2

Sheet Лист3
