Workbook
Name Ра: #REF!
Name Учо_4_1: #REF!
Name Р: #REF!
Name Учо_3_1: #REF!
Name Уча: #REF!
Name ExternalData_1: 'Все отправки'!$A$1:$Q$1436
Name ExternalData_2: '2. Результаты'!$A$1:$W$1350
Name ExternalData_1: '1. Дубликаты'!$A$1:$D$59
Name PT: #REF!
Name Уч: #REF!

Sheet OO
A1: № | B1: ИНН | C1: МО | D1: ОО | E1: Примечания
A2: 1 | B2: 501001823 | C2: Агульский МР | D2: МКОУ "Арсугская СОШ"
A3: 2 | B3: 501001781 | C3: Агульский МР | D3: МКОУ "Бедюкская СОШ"
A4: 3 | B4: 501001809 | C4: Агульский МР | D4: МКОУ "Буркиханская СОШ"
A5: 4 | B5: 501001830 | C5: Агульский МР | D5: МКОУ "Буршагская СОШ"
A6: 5 | B6: 501001848 | C6: Агульский МР | D6: МКОУ "Гоинская СОШ"
A7: 6 | B7: 501001887 | C7: Агульский МР | D7: МКОУ "Дулдугская СОШ"
A8: 7 | B8: 501001911 | C8: Агульский МР | D8: МКОУ "Курагская СОШ"
A9: 8 | B9: 501001816 | C9: Агульский МР | D9: МКОУ "Миссинская СОШ"
A10: 9 | B10: 501001774 | C10: Агульский МР | D10: МКОУ "Ричинская СОШ"
A11: 10 | B11: 501001799 | C11: Агульский МР | D11: МКОУ "Тпигская СОШ"
A12: 11 | B12: 501001855 | C12: Агульский МР | D12: МКОУ "Фитинская СОШ"
A13: 12 | B13: 501001904 | C13: Агульский МР | D13: МКОУ "Худигская СОШ"
... A1161: 1160 | B1161: 529908548 | C1161: Хивский МР | D1161: МКОУ Черенская ООШ
A1162: 1161 | B1162: 536006325 | C1162: Хунзахский МР | D1162: МКОО "Накитлинская НОШ-Сад" | E1162: добавлена
A1163: 1162 | B1163: 536015048 | C1163: Хунзахский МР | D1163: МКОО "Цадинская ООШ"
A1164: 1163 | B1164: 536006237 | C1164: Хунзахский МР | D1164: МКОУ "Амущинская СОШ"
A1165: 1164 | B1165: 536004688 | C1165: Хунзахский МР | D1165: МКОУ "Аранинская СОШ им.Р.Г.Гамзатова"
A1166: 1165 | B1166: 536006318 | C1166: Хунзахский МР | D1166: МКОУ "Ахалчинская СОШ"
A1167: 1166 | B1167: 536006269 | C1167: Хунзахский МР | D1167: МКОУ "Баитлинская НОШ"
A1168: 1167 | B1168: 536006371 | C1168: Хунзахский МР | D1168: МКОУ "Батлаичская СОШ им. А.М.Магомедова"
A1169: 1168 | B1169: 536006526 | C1169: Хунзахский МР | D1169: МКОУ "Буцринская СОШ № 2 им. З.М. Магомедова"
A1170: 1169 | B1170: 536006445 | C1170: Хунзахский МР | D1170: МКОУ "Буцринская СОШ"
A1171: 1170 | B1171: 536006558 | C1171: Хунзахский МР | D1171: МКОУ "Гацалухская ООШ"
A1172: 1171 | B1172: 536006220 | C1172: Хунзахский МР | D1172: МКОУ "Гозолоколинская НОШ"
A1173: 1172 | B1173: 536006300 | C1173: Хунзахский МР | D1173: МКОУ "Гонохская НОШ"
A1174: 1173 | B1174: 536006290 | C1174: Хунзахский МР | D1174: МКОУ "Гортколинская НОШ"
... A1391: 1390 | B1391: 528008505 | C1391: Шамильский МР | D1391: МКОУ 'Урчухская НОШ'

Sheet Все отправки
A1: ИНН | B1: МО | C1: ОО | D1: № варианта самодиагностики | E1: Балл | F1: Максимальный балл | G1: № уровня | H1: Уровень | I1: Ключевое условие "Учитель. Школьная команда" | J1: Ключевое условие "Образовательная среда" | K1: Ключевое условие "Школьный климат" | L1: Магистральное направление "Воспитание" | M1: Магистральное направление "Здоровье" | N1: Магистральное направление "Знание" | O1: Знание | P1: Магистральное направление "Профориентация" | Q1: Магистральное направление "Творчество"
A2: 501001823 | B2: Агульский МР | C2: МКОУ "Арсугская СОШ" | D2: 6 | E2: 129 | F2: 192 | G2: 3 | H2: Средний | I2: 20 | J2: 17 | K2: 11 | L2: 16 | M2: 14 | N2: 22 | P2: 9 | Q2: 20
A3: 501001781 | B3: Агульский МР | C3: МКОУ "Бедюкская СОШ" | D3: 10 | E3: 138 | F3: 195 | G3: 3 | H3: Средний | I3: 22 | J3: 15 | K3: 11 | L3: 17 | M3: 16 | N3: 25 | P3: 9 | Q3: 23
A4: 501001809 | B4: Агульский МР | C4: МКОУ "Буркиханская СОШ" | D4: 6 | E4: 126 | F4: 192 | G4: 3 | H4: Средний | I4: 25 | J4: 16 | K4: 9 | L4: 16 | M4: 12 | N4: 20 | P4: 8 | Q4: 20
A5: 501001830 | B5: Агульский МР | C5: МКОУ "Буршагская СОШ" | D5: 1 | E5: 155 | F5: 213 | G5: 3 | H5: Средний | I5: 25 | J5: 16 | K5: 12 | L5: 18 | M5: 17 | N5: 37 | P5: 10 | Q5: 20
A6: 501001848 | B6: Агульский МР | C6: МКОУ "Гоинская СОШ" | D6: 6 | E6: 146 | F6: 192 | G6: 3 | H6: Средний | I6: 25 | J6: 15 | K6: 13 | L6: 18 | M6: 19 | N6: 25 | P6: 10 | Q6: 21
A7: 501001887 | B7: Агульский МР | C7: МКОУ "Дулдугская СОШ" | D7: 2 | E7: 144 | F7: 197 | G7: 3 | H7: Средний | I7: 24 | J7: 16 | K7: 13 | L7: 19 | M7: 17 | N7: 25 | P7: 9 | Q7: 21
A8: 501001911 | B8: Агульский МР | C8: МКОУ "Курагская СОШ" | D8: 2 | E8: 160 | F8: 197 | G8: 3 | H8: Средний | I8: 27 | J8: 17 | K8: 14 | L8: 21 | M8: 20 | N8: 25 | P8: 11 | Q8: 25
A9: 501001816 | B9: Агульский МР | C9: МКОУ "Миссинская СОШ" | D9: 2 | E9: 145 | F9: 197 | G9: 3 | H9: Средний | I9: 24 | J9: 16 | K9: 13 | L9: 19 | M9: 15 | N9: 23 | P9: 12 | Q9: 23
A10: 501001774 | B10: Агульский МР | C10: МКОУ "Ричинская СОШ" | D10: 1 | E10: 146 | F10: 213 | G10: 3 | H10: Средний | I10: 24 | J10: 15 | K10: 12 | L10: 18 | M10: 16 | N10: 31 | P10: 10 | Q10: 20
A11: 501001799 | B11: Агульский МР | C11: МКОУ "Тпигская СОШ" | D11: 2 | E11: 166 | F11: 197 | G11: 4 | H11: Высокий | I11: 27 | J11: 16 | K11: 16 | L11: 20 | M11: 19 | N11: 30 | P11: 13 | Q11: 25
A12: 501001855 | B12: Агульский МР | C12: МКОУ "Фитинская СОШ" | D12: 2 | E12: 125 | F12: 197 | G12: 2 | H12: Базовый | I12: 20 | J12: 13 | K12: 11 | L12: 17 | M12: 15 | N12: 24 | P12: 6 | Q12: 19
A13: 501001904 | B13: Агульский МР | C13: МКОУ "Худигская СОШ" | D13: 1 | E13: 140 | F13: 213 | G13: 3 | H13: Средний | I13: 22 | J13: 13 | K13: 12 | L13: 17 | M13: 16 | N13: 31 | P13: 10 | Q13: 19
... A1436: 549001797 | B1436: г. Южно-Сухокумск | C1436: МКОУ "СОШ №4" Южно-Сухокумск | D1436: 1 | E1436: 141 | F1436: 213 | G1436: 3 | H1436: Средний | I1436: 18 | J1436: 14 | K1436: 16 | L1436: 18 | M1436: 15 | N1436: 29 | P1436: 13 | Q1436: 18

Sheet 1. Дубликаты
A1: ИНН | B1: МО | C1: ОО | D1: Прошли (раз)
A2: 538000752 | B2: Цунтинский МР | C2: МКОУ "Асахская СОШ" | D2: 21
A3: 511003160 | B3: Дахадаевский МР | C3: МКОУ "Аштынская СОШ" | D3: 8
A4: 535003628 | B4: Хивский МР | C4: МКОУ "Юхари-Яракская ООШ им.А.М.Юсуфова" | D4: 3
A5: 529010419 | B5: Сулейман-Стальский МР | C5: МКОУ "Хтунская НОШ" | D5: 3
A6: 502006782 | B6: Акушинский МР | C6: МКОУ "Куркебимахинская ООШ" | D6: 2
A7: 529010384 | B7: Сулейман-Стальский МР | C7: МКОУ "Чухверкентская СОШ" | D7: 2
A8: 530009231 | B8: Табасаранский МР | C8: МКОУ "Зильская СОШ" | D8: 2
A9: 530008566 | B9: Табасаранский МР | C9: МКОУ "Хурякская ООШ" | D9: 2
A10: 530008559 | B10: Табасаранский МР | C10: МКОУ "Цуртильская СОШ" | D10: 2
A11: 532000516 | B11: Тляратинский МР | C11: МКОУ "Бетельдинская СОШ" | D11: 2
A12: 532000636 | B12: Тляратинский МР | C12: МКОУ "Гведышинская СОШ" | D12: 2
A13: 532010070 | B13: Тляратинский МР | C13: МКОУ "Тлянадинская ООШ" | D13: 2
... A59: 544020524 | B59: г. Хасавюрт | C59: МКОУ СОШ № 11 | D59: 2

Sheet 2. Результаты
A1: ИНН | B1: МО | C1: ОО | D1: № варианта самодиагностики | E1: Балл | F1: Максимальный балл | G1: № уровня | H1: Уровень | I1: Ключевое условие "Учитель. Школьная команда" | J1: Учитель. Школьная команда | K1: Ключевое условие "Образовательная среда" | L1: Образовательная среда | M1: Ключевое условие "Школьный климат" | N1: Школьный климат | O1: Магистральное направление "Воспитание" | P1: Воспитание | Q1: Магистральное направление "Здоровье" | R1: Здоровье | S1: Магистральное направление "Знание" | T1: Знание | U1: Магистральное направление "Профориентация" | V1: Профориентация | W1: Магистральное направление "Творчество" | X1: Творчество
A2: 501001823 | B2: Агульский МР | C2: МКОУ "Арсугская СОШ" | D2: 6 | E2: 129 | F2: 192 | G2: 3 | H2: Средний | I2: 20 | J2: {=LET( _xlpm.thresholds, XLOOKUP('2. Результаты'!$D2, Sections!$F$27:$F$47, Sections!$G$27:$I$47), XLOOKUP('2. Результаты'!$I2, _xlpm.thresholds, Sections!$G$26:$I$26, "Ниже базового", -1) )} -> Средний | K2: 17 | L2: {=LET( _xlpm.thresholds, XLOOKUP('2. Результаты'!$D2, Sections!$P$27:$P$47, Sections!$Q$27:$S$47), XLOOKUP('2. Результаты'!$K2, _xlpm.thresholds, Sections!$Q$26:$S$26, "Ниже базового", -1) )} -> Высокий | M2: 11 | N2: {=LET( _xlpm.thresholds, XLOOKUP('2. Результаты'!$D2, Sections!$K$27:$K$47, Sections!$L$27:$N$47), XLOOKUP('2. Результаты'!$M2, _xlpm.thresholds, Sections!$L$26:$N$26, "Ниже базового", -1) )} -> Базовый | O2: 16 | P2: {=LET( _xlpm.thresholds, XLOOKUP('2. Результаты'!$D2, Sections!$P$3:$P$23, Sections!$Q$3:$S$23), XLOOKUP('2. Результаты'!$O2, _xlpm.thresholds, Sections!$Q$2:$S$2, "Ниже базового", -1) )} -> Средний | Q2: 14 | R2: {=LET( _xlpm.thresholds, XLOOKUP('2. Результаты'!$D2, Sections!$F$3:$F$23, Sections!$G$3:$I$23), XLOOKUP('2. Результаты'!$Q2, _xlpm.thresholds, Sections!$G$2:$I$2, "Ниже базового", -1) )} -> Средний | S2: 22 | T2: {=LET( _xlpm.thresholds, XLOOKUP('2. Результаты'!$D2, Sections!$A$3:$A$23, Sections!$B$3:$D$23), XLOOKUP('2. Результаты'!$S2, _xlpm.thresholds, Sections!$B$2:$D$2, "Ниже базового", -1) )} -> Базовый | U2: 9 | V2: {=LET( _xlpm.thresholds, XLOOKUP('2. Результаты'!$D2, Sections!$A$27:$A$47, Sections!$B$27:$D$47), XLOOKUP('2. Результаты'!$U2, _xlpm.thresholds, Sections!$B$26:$D$26, "Ниже базового", -1) )} -> Средний | W2: 20 | X2: {=LET( _xlpm.thresholds, XLOOKUP('2. Результаты'!$D2, Sections!$K$3:$K$23, Sections!$L$3:$N$23), XLOOKUP('2. Результаты'!$W2, _xlpm.thresholds, Sections!$L$2:$N$2, "Ниже базового", -1) )} -> Средний
A3: 501001781 | B3: Агульский МР | C3: МКОУ "Бедюкская СОШ" | D3: 10 | E3: 138 | F3: 195 | G3: 3 | H3: Средний | I3: 22 | J3: {=LET( _xlpm.thresholds, XLOOKUP('2. Результаты'!$D3, Sections!$F$27:$F$47, Sections!$G$27:$I$47), XLOOKUP('2. Результаты'!$I3, _xlpm.thresholds, Sections!$G$26:$I$26, "Ниже базового", -1) )} -> Средний | K3: 15 | L3: {=LET( _xlpm.thresholds, XLOOKUP('2. Результаты'!$D3, Sections!$P$27:$P$47, Sections!$Q$27:$S$47), XLOOKUP('2. Результаты'!$K3, _xlpm.thresholds, Sections!$Q$26:$S$26, "Ниже базового", -1) )} -> Средний | M3: 11 | N3: {=LET( _xlpm.thresholds, XLOOKUP('2. Результаты'!$D3, Sections!$K$27:$K$47, Sections!$L$27:$N$47), XLOOKUP('2. Результаты'!$M3, _xlpm.thresholds, Sections!$L$26:$N$26, "Ниже базового", -1) )} -> Базовый | O3: 17 | P3: {=LET( _xlpm.thresholds, XLOOKUP('2. Результаты'!$D3, Sections!$P$3:$P$23, Sections!$Q$3:$S$23), XLOOKUP('2. Результаты'!$O3, _xlpm.thresholds, Sections!$Q$2:$S$2, "Ниже базового", -1) )} -> Средний | Q3: 16 | R3: {=LET( _xlpm.thresholds, XLOOKUP('2. Результаты'!$D3, Sections!$F$3:$F$23, Sections!$G$3:$I$23), XLOOKUP('2. Результаты'!$Q3, _xlpm.thresholds, Sections!$G$2:$I$2, "Ниже базового", -1) )} -> Средний | S3: 25 | T3: {=LET( _xlpm.thresholds, XLOOKUP('2. Результаты'!$D3, Sections!$A$3:$A$23, Sections!$B$3:$D$23), XLOOKUP('2. Результаты'!$S3, _xlpm.thresholds, Sections!$B$2:$D$2, "Ниже базового", -1) )} -> Средний | U3: 9 | V3: {=LET( _xlpm.thresholds, XLOOKUP('2. Результаты'!$D3, Sections!$A$27:$A$47, Sections!$B$27:$D$47), XLOOKUP('2. Результаты'!$U3, _xlpm.thresholds, Sections!$B$26:$D$26, "Ниже базового", -1) )} -> Средний | W3: 23 | X3: {=LET( _xlpm.thresholds, XLOOKUP('2. Результаты'!$D3, Sections!$K$3:$K$23, Sections!$L$3:$N$23), XLOOKUP('2. Результаты'!$W3, _xlpm.thresholds, Sections!$L$2:$N$2, "Ниже базового", -1) )} -> Средний
A4: 501001809 | B4: Агульский МР | C4: МКОУ "Буркиханская СОШ" | D4: 6 | E4: 126 | F4: 192 | G4: 3 | H4: Средний | I4: 25 | J4: {=LET( _xlpm.thresholds, XLOOKUP('2. Результаты'!$D4, Sections!$F$27:$F$47, Sections!$G$27:$I$47), XLOOKUP('2. Результаты'!$I4, _xlpm.thresholds, Sections!$G$26:$I$26, "Ниже базового", -1) )} -> Средний | K4: 16 | L4: {=LET( _xlpm.thresholds, XLOOKUP('2. Результаты'!$D4, Sections!$P$27:$P$47, Sections!$Q$27:$S$47), XLOOKUP('2. Результаты'!$K4, _xlpm.thresholds, Sections!$Q$26:$S$26, "Ниже базового", -1) )} -> Высокий | M4: 9 | N4: {=LET( _xlpm.thresholds, XLOOKUP('2. Результаты'!$D4, Sections!$K$27:$K$47, Sections!$L$27:$N$47), XLOOKUP('2. Результаты'!$M4, _xlpm.thresholds, Sections!$L$26:$N$26, "Ниже базового", -1) )} -> Базовый | O4: 16 | P4: {=LET( _xlpm.thresholds, XLOOKUP('2. Результаты'!$D4, Sections!$P$3:$P$23, Sections!$Q$3:$S$23), XLOOKUP('2. Результаты'!$O4, _xlpm.thresholds, Sections!$Q$2:$S$2, "Ниже базового", -1) )} -> Средний | Q4: 12 | R4: {=LET( _xlpm.thresholds, XLOOKUP('2. Результаты'!$D4, Sections!$F$3:$F$23, Sections!$G$3:$I$23), XLOOKUP('2. Результаты'!$Q4, _xlpm.thresholds, Sections!$G$2:$I$2, "Ниже базового", -1) )} -> Базовый | S4: 20 | T4: {=LET( _xlpm.thresholds, XLOOKUP('2. Результаты'!$D4, Sections!$A$3:$A$23, Sections!$B$3:$D$23), XLOOKUP('2. Результаты'!$S4, _xlpm.thresholds, Sections!$B$2:$D$2, "Ниже базового", -1) )} -> Базовый | U4: 8 | V4: {=LET( _xlpm.thresholds, XLOOKUP('2. Результаты'!$D4, Sections!$A$27:$A$47, Sections!$B$27:$D$47), XLOOKUP('2. Результаты'!$U4, _xlpm.thresholds, Sections!$B$26:$D$26, "Ниже базового", -1) )} -> Средний | W4: 20 | X4: {=LET( _xlpm.thresholds, XLOOKUP('2. Результаты'!$D4, Sections!$K$3:$K$23, Sections!$L$3:$N$23), XLOOKUP('2. Результаты'!$W4, _xlpm.thresholds, Sections!$L$2:$N$2, "Ниже базового", -1) )} -> Средний
A5: 501001830 | B5: Агульский МР | C5: МКОУ "Буршагская СОШ" | D5: 1 | E5: 155 | F5: 213 | G5: 3 | H5: Средний | I5: 25 | J5: {=LET( _xlpm.thresholds, XLOOKUP('2. Результаты'!$D5, Sections!$F$27:$F$47, Sections!$G$27:$I$47), XLOOKUP('2. Результаты'!$I5, _xlpm.thresholds, Sections!$G$26:$I$26, "Ниже базового", -1) )} -> Средний | K5: 16 | L5: {=LET( _xlpm.thresholds, XLOOKUP('2. Результаты'!$D5, Sections!$P$27:$P$47, Sections!$Q$27:$S$47), XLOOKUP('2. Результаты'!$K5, _xlpm.thresholds, Sections!$Q$26:$S$26, "Ниже базового", -1) )} -> Высокий | M5: 12 | N5: {=LET( _xlpm.thresholds, XLOOKUP('2. Результаты'!$D5, Sections!$K$27:$K$47, Sections!$L$27:$N$47), XLOOKUP('2. Результаты'!$M5, _xlpm.thresholds, Sections!$L$26:$N$26, "Ниже базового", -1) )} -> Базовый | O5: 18 | P5: {=LET( _xlpm.thresholds, XLOOKUP('2. Результаты'!$D5, Sections!$P$3:$P$23, Sections!$Q$3:$S$23), XLOOKUP('2. Результаты'!$O5, _xlpm.thresholds, Sections!$Q$2:$S$2, "Ниже базового", -1) )} -> Средний | Q5: 17 | R5: {=LET( _xlpm.thresholds, XLOOKUP('2. Результаты'!$D5, Sections!$F$3:$F$23, Sections!$G$3:$I$23), XLOOKUP('2. Результаты'!$Q5, _xlpm.thresholds, Sections!$G$2:$I$2, "Ниже базового", -1) )} -> Средний | S5: 37 | T5: {=LET( _xlpm.thresholds, XLOOKUP('2. Результаты'!$D5, Sections!$A$3:$A$23, Sections!$B$3:$D$23), XLOOKUP('2. Результаты'!$S5, _xlpm.thresholds, Sections!$B$2:$D$2, "Ниже базового", -1) )} -> Средний | U5: 10 | V5: {=LET( _xlpm.thresholds, XLOOKUP('2. Результаты'!$D5, Sections!$A$27:$A$47, Sections!$B$27:$D$47), XLOOKUP('2. Результаты'!$U5, _xlpm.thresholds, Sections!$B$26:$D$26, "Ниже базового", -1) )} -> Средний | W5: 20 | X5: {=LET( _xlpm.thresholds, XLOOKUP('2. Результаты'!$D5, Sections!$K$3:$K$23, Sections!$L$3:$N$23), XLOOKUP('2. Результаты'!$W5, _xlpm.thresholds, Sections!$L$2:$N$2, "Ниже базового", -1) )} -> Средний
A6: 501001848 | B6: Агульский МР | C6: МКОУ "Гоинская СОШ" | D6: 6 | E6: 146 | F6: 192 | G6: 3 | H6: Средний | I6: 25 | J6: {=LET( _xlpm.thresholds, XLOOKUP('2. Результаты'!$D6, Sections!$F$27:$F$47, Sections!$G$27:$I$47), XLOOKUP('2. Результаты'!$I6, _xlpm.thresholds, Sections!$G$26:$I$26, "Ниже базового", -1) )} -> Средний | K6: 15 | L6: {=LET( _xlpm.thresholds, XLOOKUP('2. Результаты'!$D6, Sections!$P$27:$P$47, Sections!$Q$27:$S$47), XLOOKUP('2. Результаты'!$K6, _xlpm.thresholds, Sections!$Q$26:$S$26, "Ниже базового", -1) )} -> Средний | M6: 13 | N6: {=LET( _xlpm.thresholds, XLOOKUP('2. Результаты'!$D6, Sections!$K$27:$K$47, Sections!$L$27:$N$47), XLOOKUP('2. Результаты'!$M6, _xlpm.thresholds, Sections!$L$26:$N$26, "Ниже базового", -1) )} -> Средний | O6: 18 | P6: {=LET( _xlpm.thresholds, XLOOKUP('2. Результаты'!$D6, Sections!$P$3:$P$23, Sections!$Q$3:$S$23), XLOOKUP('2. Результаты'!$O6, _xlpm.thresholds, Sections!$Q$2:$S$2, "Ниже базового", -1) )} -> Средний | Q6: 19 | R6: {=LET( _xlpm.thresholds, XLOOKUP('2. Результаты'!$D6, Sections!$F$3:$F$23, Sections!$G$3:$I$23), XLOOKUP('2. Результаты'!$Q6, _xlpm.thresholds, Sections!$G$2:$I$2, "Ниже базового", -1) )} -> Средний | S6: 25 | T6: {=LET( _xlpm.thresholds, XLOOKUP('2. Результаты'!$D6, Sections!$A$3:$A$23, Sections!$B$3:$D$23), XLOOKUP('2. Результаты'!$S6, _xlpm.thresholds, Sections!$B$2:$D$2, "Ниже базового", -1) )} -> Средний | U6: 10 | V6: {=LET( _xlpm.thresholds, XLOOKUP('2. Результаты'!$D6, Sections!$A$27:$A$47, Sections!$B$27:$D$47), XLOOKUP('2. Результаты'!$U6, _xlpm.thresholds, Sections!$B$26:$D$26, "Ниже базового", -1) )} -> Средний | W6: 21 | X6: {=LET( _xlpm.thresholds, XLOOKUP('2. Результаты'!$D6, Sections!$K$3:$K$23, Sections!$L$3:$N$23), XLOOKUP('2. Результаты'!$W6, _xlpm.thresholds, Sections!$L$2:$N$2, "Ниже базового", -1) )} -> Средний
A7: 501001887 | B7: Агульский МР | C7: МКОУ "Дулдугская СОШ" | D7: 2 | E7: 144 | F7: 197 | G7: 3 | H7: Средний | I7: 24 | J7: {=LET( _xlpm.thresholds, XLOOKUP('2. Результаты'!$D7, Sections!$F$27:$F$47, Sections!$G$27:$I$47), XLOOKUP('2. Результаты'!$I7, _xlpm.thresholds, Sections!$G$26:$I$26, "Ниже базового", -1) )} -> Средний | K7: 16 | L7: {=LET( _xlpm.thresholds, XLOOKUP('2. Результаты'!$D7, Sections!$P$27:$P$47, Sections!$Q$27:$S$47), XLOOKUP('2. Результаты'!$K7, _xlpm.thresholds, Sections!$Q$26:$S$26, "Ниже базового", -1) )} -> Высокий | M7: 13 | N7: {=LET( _xlpm.thresholds, XLOOKUP('2. Результаты'!$D7, Sections!$K$27:$K$47, Sections!$L$27:$N$47), XLOOKUP('2. Результаты'!$M7, _xlpm.thresholds, Sections!$L$26:$N$26, "Ниже базового", -1) )} -> Средний | O7: 19 | P7: {=LET( _xlpm.thresholds, XLOOKUP('2. Результаты'!$D7, Sections!$P$3:$P$23, Sections!$Q$3:$S$23), XLOOKUP('2. Результаты'!$O7, _xlpm.thresholds, Sections!$Q$2:$S$2, "Ниже базового", -1) )} -> Средний | Q7: 17 | R7: {=LET( _xlpm.thresholds, XLOOKUP('2. Результаты'!$D7, Sections!$F$3:$F$23, Sections!$G$3:$I$23), XLOOKUP('2. Результаты'!$Q7, _xlpm.thresholds, Sections!$G$2:$I$2, "Ниже базового", -1) )} -> Средний | S7: 25 | T7: {=LET( _xlpm.thresholds, XLOOKUP('2. Результаты'!$D7, Sections!$A$3:$A$23, Sections!$B$3:$D$23), XLOOKUP('2. Результаты'!$S7, _xlpm.thresholds, Sections!$B$2:$D$2, "Ниже базового", -1) )} -> Средний | U7: 9 | V7: {=LET( _xlpm.thresholds, XLOOKUP('2. Результаты'!$D7, Sections!$A$27:$A$47, Sections!$B$27:$D$47), XLOOKUP('2. Результаты'!$U7, _xlpm.thresholds, Sections!$B$26:$D$26, "Ниже базового", -1) )} -> Средний | W7: 21 | X7: {=LET( _xlpm.thresholds, XLOOKUP('2. Результаты'!$D7, Sections!$K$3:$K$23, Sections!$L$3:$N$23), XLOOKUP('2. Результаты'!$W7, _xlpm.thresholds, Sections!$L$2:$N$2, "Ниже базового", -1) )} -> Средний
A8: 501001911 | B8: Агульский МР | C8: МКОУ "Курагская СОШ" | D8: 2 | E8: 160 | F8: 197 | G8: 3 | H8: Средний | I8: 27 | J8: {=LET( _xlpm.thresholds, XLOOKUP('2. Результаты'!$D8, Sections!$F$27:$F$47, Sections!$G$27:$I$47), XLOOKUP('2. Результаты'!$I8, _xlpm.thresholds, Sections!$G$26:$I$26, "Ниже базового", -1) )} -> Высокий | K8: 17 | L8: {=LET( _xlpm.thresholds, XLOOKUP('2. Результаты'!$D8, Sections!$P$27:$P$47, Sections!$Q$27:$S$47), XLOOKUP('2. Результаты'!$K8, _xlpm.thresholds, Sections!$Q$26:$S$26, "Ниже базового", -1) )} -> Высокий | M8: 14 | N8: {=LET( _xlpm.thresholds, XLOOKUP('2. Результаты'!$D8, Sections!$K$27:$K$47, Sections!$L$27:$N$47), XLOOKUP('2. Результаты'!$M8, _xlpm.thresholds, Sections!$L$26:$N$26, "Ниже базового", -1) )} -> Средний | O8: 21 | P8: {=LET( _xlpm.thresholds, XLOOKUP('2. Результаты'!$D8, Sections!$P$3:$P$23, Sections!$Q$3:$S$23), XLOOKUP('2. Результаты'!$O8, _xlpm.thresholds, Sections!$Q$2:$S$2, "Ниже базового", -1) )} -> Высокий | Q8: 20 | R8: {=LET( _xlpm.thresholds, XLOOKUP('2. Результаты'!$D8, Sections!$F$3:$F$23, Sections!$G$3:$I$23), XLOOKUP('2. Результаты'!$Q8, _xlpm.thresholds, Sections!$G$2:$I$2, "Ниже базового", -1) )} -> Высокий | S8: 25 | T8: {=LET( _xlpm.thresholds, XLOOKUP('2. Результаты'!$D8, Sections!$A$3:$A$23, Sections!$B$3:$D$23), XLOOKUP('2. Результаты'!$S8, _xlpm.thresholds, Sections!$B$2:$D$2, "Ниже базового", -1) )} -> Средний | U8: 11 | V8: {=LET( _xlpm.thresholds, XLOOKUP('2. Результаты'!$D8, Sections!$A$27:$A$47, Sections!$B$27:$D$47), XLOOKUP('2. Результаты'!$U8, _xlpm.thresholds, Sections!$B$26:$D$26, "Ниже базового", -1) )} -> Средний | W8: 25 | X8: {=LET( _xlpm.thresholds, XLOOKUP('2. Результаты'!$D8, Sections!$K$3:$K$23, Sections!$L$3:$N$23), XLOOKUP('2. Результаты'!$W8, _xlpm.thresholds, Sections!$L$2:$N$2, "Ниже базового", -1) )} -> Высокий
A9: 501001816 | B9: Агульский МР | C9: МКОУ "Миссинская СОШ" | D9: 2 | E9: 145 | F9: 197 | G9: 3 | H9: Средний | I9: 24 | J9: {=LET( _xlpm.thresholds, XLOOKUP('2. Результаты'!$D9, Sections!$F$27:$F$47, Sections!$G$27:$I$47), XLOOKUP('2. Результаты'!$I9, _xlpm.thresholds, Sections!$G$26:$I$26, "Ниже базового", -1) )} -> Средний | K9: 16 | L9: {=LET( _xlpm.thresholds, XLOOKUP('2. Результаты'!$D9, Sections!$P$27:$P$47, Sections!$Q$27:$S$47), XLOOKUP('2. Результаты'!$K9, _xlpm.thresholds, Sections!$Q$26:$S$26, "Ниже базового", -1) )} -> Высокий | M9: 13 | N9: {=LET( _xlpm.thresholds, XLOOKUP('2. Результаты'!$D9, Sections!$K$27:$K$47, Sections!$L$27:$N$47), XLOOKUP('2. Результаты'!$M9, _xlpm.thresholds, Sections!$L$26:$N$26, "Ниже базового", -1) )} -> Средний | O9: 19 | P9: {=LET( _xlpm.thresholds, XLOOKUP('2. Результаты'!$D9, Sections!$P$3:$P$23, Sections!$Q$3:$S$23), XLOOKUP('2. Результаты'!$O9, _xlpm.thresholds, Sections!$Q$2:$S$2, "Ниже базового", -1) )} -> Средний | Q9: 15 | R9: {=LET( _xlpm.thresholds, XLOOKUP('2. Результаты'!$D9, Sections!$F$3:$F$23, Sections!$G$3:$I$23), XLOOKUP('2. Результаты'!$Q9, _xlpm.thresholds, Sections!$G$2:$I$2, "Ниже базового", -1) )} -> Средний | S9: 23 | T9: {=LET( _xlpm.thresholds, XLOOKUP('2. Результаты'!$D9, Sections!$A$3:$A$23, Sections!$B$3:$D$23), XLOOKUP('2. Результаты'!$S9, _xlpm.thresholds, Sections!$B$2:$D$2, "Ниже базового", -1) )} -> Средний | U9: 12 | V9: {=LET( _xlpm.thresholds, XLOOKUP('2. Результаты'!$D9, Sections!$A$27:$A$47, Sections!$B$27:$D$47), XLOOKUP('2. Результаты'!$U9, _xlpm.thresholds, Sections!$B$26:$D$26, "Ниже базового", -1) )} -> Высокий | W9: 23 | X9: {=LET( _xlpm.thresholds, XLOOKUP('2. Результаты'!$D9, Sections!$K$3:$K$23, Sections!$L$3:$N$23), XLOOKUP('2. Результаты'!$W9, _xlpm.thresholds, Sections!$L$2:$N$2, "Ниже базового", -1) )} -> Средний
A10: 501001774 | B10: Агульский МР | C10: МКОУ "Ричинская СОШ" | D10: 1 | E10: 146 | F10: 213 | G10: 3 | H10: Средний | I10: 24 | J10: {=LET( _xlpm.thresholds, XLOOKUP('2. Результаты'!$D10, Sections!$F$27:$F$47, Sections!$G$27:$I$47), XLOOKUP('2. Результаты'!$I10, _xlpm.thresholds, Sections!$G$26:$I$26, "Ниже базового", -1) )} -> Средний | K10: 15 | L10: {=LET( _xlpm.thresholds, XLOOKUP('2. Результаты'!$D10, Sections!$P$27:$P$47, Sections!$Q$27:$S$47), XLOOKUP('2. Результаты'!$K10, _xlpm.thresholds, Sections!$Q$26:$S$26, "Ниже базового", -1) )} -> Средний | M10: 12 | N10: {=LET( _xlpm.thresholds, XLOOKUP('2. Результаты'!$D10, Sections!$K$27:$K$47, Sections!$L$27:$N$47), XLOOKUP('2. Результаты'!$M10, _xlpm.thresholds, Sections!$L$26:$N$26, "Ниже базового", -1) )} -> Базовый | O10: 18 | P10: {=LET( _xlpm.thresholds, XLOOKUP('2. Результаты'!$D10, Sections!$P$3:$P$23, Sections!$Q$3:$S$23), XLOOKUP('2. Результаты'!$O10, _xlpm.thresholds, Sections!$Q$2:$S$2, "Ниже базового", -1) )} -> Средний | Q10: 16 | R10: {=LET( _xlpm.thresholds, XLOOKUP('2. Результаты'!$D10, Sections!$F$3:$F$23, Sections!$G$3:$I$23), XLOOKUP('2. Результаты'!$Q10, _xlpm.thresholds, Sections!$G$2:$I$2, "Ниже базового", -1) )} -> Средний | S10: 31 | T10: {=LET( _xlpm.thresholds, XLOOKUP('2. Результаты'!$D10, Sections!$A$3:$A$23, Sections!$B$3:$D$23), XLOOKUP('2. Результаты'!$S10, _xlpm.thresholds, Sections!$B$2:$D$2, "Ниже базового", -1) )} -> Средний | U10: 10 | V10: {=LET( _xlpm.thresholds, XLOOKUP('2. Результаты'!$D10, Sections!$A$27:$A$47, Sections!$B$27:$D$47), XLOOKUP('2. Результаты'!$U10, _xlpm.thresholds, Sections!$B$26:$D$26, "Ниже базового", -1) )} -> Средний | W10: 20 | X10: {=LET( _xlpm.thresholds, XLOOKUP('2. Результаты'!$D10, Sections!$K$3:$K$23, Sections!$L$3:$N$23), XLOOKUP('2. Результаты'!$W10, _xlpm.thresholds, Sections!$L$2:$N$2, "Ниже базового", -1) )} -> Средний
A11: 501001799 | B11: Агульский МР | C11: МКОУ "Тпигская СОШ" | D11: 2 | E11: 166 | F11: 197 | G11: 4 | H11: Высокий | I11: 27 | J11: {=LET( _xlpm.thresholds, XLOOKUP('2. Результаты'!$D11, Sections!$F$27:$F$47, Sections!$G$27:$I$47), XLOOKUP('2. Результаты'!$I11, _xlpm.thresholds, Sections!$G$26:$I$26, "Ниже базового", -1) )} -> Высокий | K11: 16 | L11: {=LET( _xlpm.thresholds, XLOOKUP('2. Результаты'!$D11, Sections!$P$27:$P$47, Sections!$Q$27:$S$47), XLOOKUP('2. Результаты'!$K11, _xlpm.thresholds, Sections!$Q$26:$S$26, "Ниже базового", -1) )} -> Высокий | M11: 16 | N11: {=LET( _xlpm.thresholds, XLOOKUP('2. Результаты'!$D11, Sections!$K$27:$K$47, Sections!$L$27:$N$47), XLOOKUP('2. Результаты'!$M11, _xlpm.thresholds, Sections!$L$26:$N$26, "Ниже базового", -1) )} -> Высокий | O11: 20 | P11: {=LET( _xlpm.thresholds, XLOOKUP('2. Результаты'!$D11, Sections!$P$3:$P$23, Sections!$Q$3:$S$23), XLOOKUP('2. Результаты'!$O11, _xlpm.thresholds, Sections!$Q$2:$S$2, "Ниже базового", -1) )} -> Высокий | Q11: 19 | R11: {=LET( _xlpm.thresholds, XLOOKUP('2. Результаты'!$D11, Sections!$F$3:$F$23, Sections!$G$3:$I$23), XLOOKUP('2. Результаты'!$Q11, _xlpm.thresholds, Sections!$G$2:$I$2, "Ниже базового", -1) )} -> Средний | S11: 30 | T11: {=LET( _xlpm.thresholds, XLOOKUP('2. Результаты'!$D11, Sections!$A$3:$A$23, Sections!$B$3:$D$23), XLOOKUP('2. Результаты'!$S11, _xlpm.thresholds, Sections!$B$2:$D$2, "Ниже базового", -1) )} -> Средний | U11: 13 | V11: {=LET( _xlpm.thresholds, XLOOKUP('2. Результаты'!$D11, Sections!$A$27:$A$47, Sections!$B$27:$D$47), XLOOKUP('2. Результаты'!$U11, _xlpm.thresholds, Sections!$B$26:$D$26, "Ниже базового", -1) )} -> Высокий | W11: 25 | X11: {=LET( _xlpm.thresholds, XLOOKUP('2. Результаты'!$D11, Sections!$K$3:$K$23, Sections!$L$3:$N$23), XLOOKUP('2. Результаты'!$W11, _xlpm.thresholds, Sections!$L$2:$N$2, "Ниже базового", -1) )} -> Высокий
A12: 501001855 | B12: Агульский МР | C12: МКОУ "Фитинская СОШ" | D12: 2 | E12: 125 | F12: 197 | G12: 2 | H12: Базовый | I12: 20 | J12: {=LET( _xlpm.thresholds, XLOOKUP('2. Результаты'!$D12, Sections!$F$27:$F$47, Sections!$G$27:$I$47), XLOOKUP('2. Результаты'!$I12, _xlpm.thresholds, Sections!$G$26:$I$26, "Ниже базового", -1) )} -> Средний | K12: 13 | L12: {=LET( _xlpm.thresholds, XLOOKUP('2. Результаты'!$D12, Sections!$P$27:$P$47, Sections!$Q$27:$S$47), XLOOKUP('2. Результаты'!$K12, _xlpm.thresholds, Sections!$Q$26:$S$26, "Ниже базового", -1) )} -> Средний | M12: 11 | N12: {=LET( _xlpm.thresholds, XLOOKUP('2. Результаты'!$D12, Sections!$K$27:$K$47, Sections!$L$27:$N$47), XLOOKUP('2. Результаты'!$M12, _xlpm.thresholds, Sections!$L$26:$N$26, "Ниже базового", -1) )} -> Базовый | O12: 17 | P12: {=LET( _xlpm.thresholds, XLOOKUP('2. Результаты'!$D12, Sections!$P$3:$P$23, Sections!$Q$3:$S$23), XLOOKUP('2. Результаты'!$O12, _xlpm.thresholds, Sections!$Q$2:$S$2, "Ниже базового", -1) )} -> Средний | Q12: 15 | R12: {=LET( _xlpm.thresholds, XLOOKUP('2. Результаты'!$D12, Sections!$F$3:$F$23, Sections!$G$3:$I$23), XLOOKUP('2. Результаты'!$Q12, _xlpm.thresholds, Sections!$G$2:$I$2, "Ниже базового", -1) )} -> Средний | S12: 24 | T12: {=LET( _xlpm.thresholds, XLOOKUP('2. Результаты'!$D12, Sections!$A$3:$A$23, Sections!$B$3:$D$23), XLOOKUP('2. Результаты'!$S12, _xlpm.thresholds, Sections!$B$2:$D$2, "Ниже базового", -1) )} -> Средний | U12: 6 | V12: {=LET( _xlpm.thresholds, XLOOKUP('2. Результаты'!$D12, Sections!$A$27:$A$47, Sections!$B$27:$D$47), XLOOKUP('2. Результаты'!$U12, _xlpm.thresholds, Sections!$B$26:$D$26, "Ниже базового", -1) )} -> Базовый | W12: 19 | X12: {=LET( _xlpm.thresholds, XLOOKUP('2. Результаты'!$D12, Sections!$K$3:$K$23, Sections!$L$3:$N$23), XLOOKUP('2. Результаты'!$W12, _xlpm.thresholds, Sections!$L$2:$N$2, "Ниже базового", -1) )} -> Средний
A13: 501001904 | B13: Агульский МР | C13: МКОУ "Худигская СОШ" | D13: 1 | E13: 140 | F13: 213 | G13: 3 | H13: Средний | I13: 22 | J13: {=LET( _xlpm.thresholds, XLOOKUP('2. Результаты'!$D13, Sections!$F$27:$F$47, Sections!$G$27:$I$47), XLOOKUP('2. Результаты'!$I13, _xlpm.thresholds, Sections!$G$26:$I$26, "Ниже базового", -1) )} -> Средний | K13: 13 | L13: {=LET( _xlpm.thresholds, XLOOKUP('2. Результаты'!$D13, Sections!$P$27:$P$47, Sections!$Q$27:$S$47), XLOOKUP('2. Результаты'!$K13, _xlpm.thresholds, Sections!$Q$26:$S$26, "Ниже базового", -1) )} -> Средний | M13: 12 | N13: {=LET( _xlpm.thresholds, XLOOKUP('2. Результаты'!$D13, Sections!$K$27:$K$47, Sections!$L$27:$N$47), XLOOKUP('2. Результаты'!$M13, _xlpm.thresholds, Sections!$L$26:$N$26, "Ниже базового", -1) )} -> Базовый | O13: 17 | P13: {=LET( _xlpm.thresholds, XLOOKUP('2. Результаты'!$D13, Sections!$P$3:$P$23, Sections!$Q$3:$S$23), XLOOKUP('2. Результаты'!$O13, _xlpm.thresholds, Sections!$Q$2:$S$2, "Ниже базового", -1) )} -> Средний | Q13: 16 | R13: {=LET( _xlpm.thresholds, XLOOKUP('2. Результаты'!$D13, Sections!$F$3:$F$23, Sections!$G$3:$I$23), XLOOKUP('2. Результаты'!$Q13, _xlpm.thresholds, Sections!$G$2:$I$2, "Ниже базового", -1) )} -> Средний | S13: 31 | T13: {=LET( _xlpm.thresholds, XLOOKUP('2. Результаты'!$D13, Sections!$A$3:$A$23, Sections!$B$3:$D$23), XLOOKUP('2. Результаты'!$S13, _xlpm.thresholds, Sections!$B$2:$D$2, "Ниже базового", -1) )} -> Средний | U13: 10 | V13: {=LET( _xlpm.thresholds, XLOOKUP('2. Результаты'!$D13, Sections!$A$27:$A$47, Sections!$B$27:$D$47), XLOOKUP('2. Результаты'!$U13, _xlpm.thresholds, Sections!$B$26:$D$26, "Ниже базового", -1) )} -> Средний | W13: 19 | X13: {=LET( _xlpm.thresholds, XLOOKUP('2. Результаты'!$D13, Sections!$K$3:$K$23, Sections!$L$3:$N$23), XLOOKUP('2. Результаты'!$W13, _xlpm.thresholds, Sections!$L$2:$N$2, "Ниже базового", -1) )} -> Средний
... A1350: 549001797 | B1350: г. Южно-Сухокумск | C1350: МКОУ "СОШ №4" Южно-Сухокумск | D1350: 1 | E1350: 141 | F1350: 213 | G1350: 3 | H1350: Средний | I1350: 18 | J1350: {=LET( _xlpm.thresholds, XLOOKUP('2. Результаты'!$D1350, Sections!$F$27:$F$47, Sections!$G$27:$I$47), XLOOKUP('2. Результаты'!$I1350, _xlpm.thresholds, Sections!$G$26:$I$26, "Ниже базового", -1) )} -> Средний | K1350: 14 | L1350: {=LET( _xlpm.thresholds, XLOOKUP('2. Результаты'!$D1350, Sections!$P$27:$P$47, Sections!$Q$27:$S$47), XLOOKUP('2. Результаты'!$K1350, _xlpm.thresholds, Sections!$Q$26:$S$26, "Ниже базового", -1) )} -> Средний | M1350: 16 | N1350: {=LET( _xlpm.thresholds, XLOOKUP('2. Результаты'!$D1350, Sections!$K$27:$K$47, Sections!$L$27:$N$47), XLOOKUP('2. Результаты'!$M1350, _xlpm.thresholds, Sections!$L$26:$N$26, "Ниже базового", -1) )} -> Средний | O1350: 18 | P1350: {=LET( _xlpm.thresholds, XLOOKUP('2. Результаты'!$D1350, Sections!$P$3:$P$23, Sections!$Q$3:$S$23), XLOOKUP('2. Результаты'!$O1350, _xlpm.thresholds, Sections!$Q$2:$S$2, "Ниже базового", -1) )} -> Средний | Q1350: 15 | R1350: {=LET( _xlpm.thresholds, XLOOKUP('2. Результаты'!$D1350, Sections!$F$3:$F$23, Sections!$G$3:$I$23), XLOOKUP('2. Результаты'!$Q1350, _xlpm.thresholds, Sections!$G$2:$I$2, "Ниже базового", -1) )} -> Средний | S1350: 29 | T1350: {=LET( _xlpm.thresholds, XLOOKUP('2. Результаты'!$D1350, Sections!$A$3:$A$23, Sections!$B$3:$D$23), XLOOKUP('2. Результаты'!$S1350, _xlpm.thresholds, Sections!$B$2:$D$2, "Ниже базового", -1) )} -> Средний | U1350: 13 | V1350: {=LET( _xlpm.thresholds, XLOOKUP('2. Результаты'!$D1350, Sections!$A$27:$A$47, Sections!$B$27:$D$47), XLOOKUP('2. Результаты'!$U1350, _xlpm.thresholds, Sections!$B$26:$D$26, "Ниже базового", -1) )} -> Высокий | W1350: 18 | X1350: {=LET( _xlpm.thresholds, XLOOKUP('2. Результаты'!$D1350, Sections!$K$3:$K$23, Sections!$L$3:$N$23), XLOOKUP('2. Результаты'!$W1350, _xlpm.thresholds, Sections!$L$2:$N$2, "Ниже базового", -1) )} -> Средний

Sheet Выбор варианта
A1: ИНН | B1: МО | C1: ОО | D1: № варианта
A2: 511003160 | B2: {=XLOOKUP('Выбор варианта'!$A2, OO!$B$2:$B$1391, OO!$C$2:$C$1391)} -> Дахадаевский МР | C2: {=XLOOKUP('Выбор варианта'!$A2, OO!$B$2:$B$1391, OO!$D$2:$D$1391)} -> МКОУ "Аштынская СОШ" | D2: 2
A3: 538000752 | B3: {=XLOOKUP('Выбор варианта'!$A3, OO!$B$2:$B$1391, OO!$C$2:$C$1391)} -> Цунтинский МР | C3: {=XLOOKUP('Выбор варианта'!$A3, OO!$B$2:$B$1391, OO!$D$2:$D$1391)} -> МКОУ "Асахская СОШ" | D3: 1
A4: 523000421 | B4: {=XLOOKUP('Выбор варианта'!$A4, OO!$B$2:$B$1391, OO!$C$2:$C$1391)} -> Магарамкентский МР | C4: {=XLOOKUP('Выбор варианта'!$A4, OO!$B$2:$B$1391, OO!$D$2:$D$1391)} -> МКОУ "Джепельская ООШ" | D4: 6
A5: 523000446 | B5: {=XLOOKUP('Выбор варианта'!$A5, OO!$B$2:$B$1391, OO!$C$2:$C$1391)} -> Магарамкентский МР | C5: {=XLOOKUP('Выбор варианта'!$A5, OO!$B$2:$B$1391, OO!$D$2:$D$1391)} -> МКОУ "Мугерганская СОШ им.Рамалданова А.Р." | D5: 1
A6: 523000710 | B6: {=XLOOKUP('Выбор варианта'!$A6, OO!$B$2:$B$1391, OO!$C$2:$C$1391)} -> Магарамкентский МР | C6: {=XLOOKUP('Выбор варианта'!$A6, OO!$B$2:$B$1391, OO!$D$2:$D$1391)} -> МКОУ "Ярукваларская ООШ" | D6: 5
A7: 554008029 | B7: {=XLOOKUP('Выбор варианта'!$A7, OO!$B$2:$B$1391, OO!$C$2:$C$1391)} -> Частные | C7: {=XLOOKUP('Выбор варианта'!$A7, OO!$B$2:$B$1391, OO!$D$2:$D$1391)} -> МАОУ "КЦО "Школа №15" | D7: 0

Sheet 3. Анализ по МО
A1: № | B1: Высокий | C1: Средний | D1: Базовый | E1: Ниже базового | F1: № | G1: Муниципалитет | H1: Прошли | I1: Высокий | J1: Средний | K1: Базовый | L1: Ниже базового | M1: Общая оценка МО (от 2 до 5) | N1: Средний | O1: Базовый | P1: Ниже базового | Q1: Общий уровень МО
A2: 16 | B2: =COUNTIFS('2. Результаты'!$B$2:$B$1350, '3. Анализ по МО'!$G2, '2. Результаты'!$H$2:$H$1350, B$1) -> 4 | C2: =COUNTIFS('2. Результаты'!$B$2:$B$1350, '3. Анализ по МО'!$G2, '2. Результаты'!$H$2:$H$1350, C$1) -> 2 | D2: =COUNTIFS('2. Результаты'!$B$2:$B$1350, '3. Анализ по МО'!$G2, '2. Результаты'!$H$2:$H$1350, D$1) -> 1 | E2: =COUNTIFS('2. Результаты'!$B$2:$B$1350, '3. Анализ по МО'!$G2, '2. Результаты'!$H$2:$H$1350, E$1) -> 0 | F2: {=ROW() - ROW(TAKE('3. Анализ по МО'!$A$2:$Q$55, 1)) + 1} -> #NAME? | G2: Бежтинский участок | H2: =SUM('3. Анализ по МО'!$B2:$E2) -> 7 | I2: ='3. Анализ по МО'!$B2 / '3. Анализ по МО'!$H2 -> 57% | J2: ='3. Анализ по МО'!$C2 / '3. Анализ по МО'!$H2 -> 29% | K2: ='3. Анализ по МО'!$D2 / '3. Анализ по МО'!$H2 -> 14% | L2: ='3. Анализ по МО'!$E2 / '3. Анализ по МО'!$H2 -> 0% | M2: =(5 * '3. Анализ по МО'!$B2 + 4 * '3. Анализ по МО'!$C2 + 3 * '3. Анализ по МО'!$D2 + 2 * '3. Анализ по МО'!$E2) / '3. Анализ по МО'!$H2 -> 4.43 | N2: =IF('3. Анализ по МО'!$Q2 = "средний", '3. Анализ по МО'!$M2, NA()) -> 4.43 | O2: =IF('3. Анализ по МО'!$Q2 = "базовый", '3. Анализ по МО'!$M2, NA()) -> #N/A | P2: =IF('3. Анализ по МО'!$Q2 = "ниже базового", '3. Анализ по МО'!$M2, NA()) -> #N/A | Q2: {=INDEX({"ниже базового","базовый","средний","высокий"}, ROUND('3. Анализ по МО'!$M2, 0) - 1)} -> средний
A3: 20 | B3: =COUNTIFS('2. Результаты'!$B$2:$B$1350, '3. Анализ по МО'!$G3, '2. Результаты'!$H$2:$H$1350, B$1) -> 8 | C3: =COUNTIFS('2. Результаты'!$B$2:$B$1350, '3. Анализ по МО'!$G3, '2. Результаты'!$H$2:$H$1350, C$1) -> 15 | D3: =COUNTIFS('2. Результаты'!$B$2:$B$1350, '3. Анализ по МО'!$G3, '2. Результаты'!$H$2:$H$1350, D$1) -> 0 | E3: =COUNTIFS('2. Результаты'!$B$2:$B$1350, '3. Анализ по МО'!$G3, '2. Результаты'!$H$2:$H$1350, E$1) -> 0 | F3: {=ROW() - ROW(TAKE('3. Анализ по МО'!$A$2:$Q$55, 1)) + 1} -> #NAME? | G3: Кизилюртовский МР | H3: =SUM('3. Анализ по МО'!$B3:$E3) -> 23 | I3: ='3. Анализ по МО'!$B3 / '3. Анализ по МО'!$H3 -> 35% | J3: ='3. Анализ по МО'!$C3 / '3. Анализ по МО'!$H3 -> 65% | K3: ='3. Анализ по МО'!$D3 / '3. Анализ по МО'!$H3 -> 0% | L3: ='3. Анализ по МО'!$E3 / '3. Анализ по МО'!$H3 -> 0% | M3: =(5 * '3. Анализ по МО'!$B3 + 4 * '3. Анализ по МО'!$C3 + 3 * '3. Анализ по МО'!$D3 + 2 * '3. Анализ по МО'!$E3) / '3. Анализ по МО'!$H3 -> 4.35 | N3: =IF('3. Анализ по МО'!$Q3 = "средний", '3. Анализ по МО'!$M3, NA()) -> 4.35 | O3: =IF('3. Анализ по МО'!$Q3 = "базовый", '3. Анализ по МО'!$M3, NA()) -> #N/A | P3: =IF('3. Анализ по МО'!$Q3 = "ниже базового", '3. Анализ по МО'!$M3, NA()) -> #N/A | Q3: {=INDEX({"ниже базового","базовый","средний","высокий"}, ROUND('3. Анализ по МО'!$M3, 0) - 1)} -> средний
A4: 4 | B4: =COUNTIFS('2. Результаты'!$B$2:$B$1350, '3. Анализ по МО'!$G4, '2. Результаты'!$H$2:$H$1350, B$1) -> 7 | C4: =COUNTIFS('2. Результаты'!$B$2:$B$1350, '3. Анализ по МО'!$G4, '2. Результаты'!$H$2:$H$1350, C$1) -> 7 | D4: =COUNTIFS('2. Результаты'!$B$2:$B$1350, '3. Анализ по МО'!$G4, '2. Результаты'!$H$2:$H$1350, D$1) -> 0 | E4: =COUNTIFS('2. Результаты'!$B$2:$B$1350, '3. Анализ по МО'!$G4, '2. Результаты'!$H$2:$H$1350, E$1) -> 2 | F4: {=ROW() - ROW(TAKE('3. Анализ по МО'!$A$2:$Q$55, 1)) + 1} -> #NAME? | G4: Ногайский МР | H4: =SUM('3. Анализ по МО'!$B4:$E4) -> 16 | I4: ='3. Анализ по МО'!$B4 / '3. Анализ по МО'!$H4 -> 44% | J4: ='3. Анализ по МО'!$C4 / '3. Анализ по МО'!$H4 -> 44% | K4: ='3. Анализ по МО'!$D4 / '3. Анализ по МО'!$H4 -> 0% | L4: ='3. Анализ по МО'!$E4 / '3. Анализ по МО'!$H4 -> 13% | M4: =(5 * '3. Анализ по МО'!$B4 + 4 * '3. Анализ по МО'!$C4 + 3 * '3. Анализ по МО'!$D4 + 2 * '3. Анализ по МО'!$E4) / '3. Анализ по МО'!$H4 -> 4.19 | N4: =IF('3. Анализ по МО'!$Q4 = "средний", '3. Анализ по МО'!$M4, NA()) -> 4.19 | O4: =IF('3. Анализ по МО'!$Q4 = "базовый", '3. Анализ по МО'!$M4, NA()) -> #N/A | P4: =IF('3. Анализ по МО'!$Q4 = "ниже базового", '3. Анализ по МО'!$M4, NA()) -> #N/A | Q4: {=INDEX({"ниже базового","базовый","средний","высокий"}, ROUND('3. Анализ по МО'!$M4, 0) - 1)} -> средний
A5: 38 | B5: =COUNTIFS('2. Результаты'!$B$2:$B$1350, '3. Анализ по МО'!$G5, '2. Результаты'!$H$2:$H$1350, B$1) -> 5 | C5: =COUNTIFS('2. Результаты'!$B$2:$B$1350, '3. Анализ по МО'!$G5, '2. Результаты'!$H$2:$H$1350, C$1) -> 8 | D5: =COUNTIFS('2. Результаты'!$B$2:$B$1350, '3. Анализ по МО'!$G5, '2. Результаты'!$H$2:$H$1350, D$1) -> 1 | E5: =COUNTIFS('2. Результаты'!$B$2:$B$1350, '3. Анализ по МО'!$G5, '2. Результаты'!$H$2:$H$1350, E$1) -> 1 | F5: {=ROW() - ROW(TAKE('3. Анализ по МО'!$A$2:$Q$55, 1)) + 1} -> #NAME? | G5: Подведомственные | H5: =SUM('3. Анализ по МО'!$B5:$E5) -> 15 | I5: ='3. Анализ по МО'!$B5 / '3. Анализ по МО'!$H5 -> 33% | J5: ='3. Анализ по МО'!$C5 / '3. Анализ по МО'!$H5 -> 53% | K5: ='3. Анализ по МО'!$D5 / '3. Анализ по МО'!$H5 -> 7% | L5: ='3. Анализ по МО'!$E5 / '3. Анализ по МО'!$H5 -> 7% | M5: =(5 * '3. Анализ по МО'!$B5 + 4 * '3. Анализ по МО'!$C5 + 3 * '3. Анализ по МО'!$D5 + 2 * '3. Анализ по МО'!$E5) / '3. Анализ по МО'!$H5 -> 4.13 | N5: =IF('3. Анализ по МО'!$Q5 = "средний", '3. Анализ по МО'!$M5, NA()) -> 4.13 | O5: =IF('3. Анализ по МО'!$Q5 = "базовый", '3. Анализ по МО'!$M5, NA()) -> #N/A | P5: =IF('3. Анализ по МО'!$Q5 = "ниже базового", '3. Анализ по МО'!$M5, NA()) -> #N/A | Q5: {=INDEX({"ниже базового","базовый","средний","высокий"}, ROUND('3. Анализ по МО'!$M5, 0) - 1)} -> средний
A6: 29 | B6: =COUNTIFS('2. Результаты'!$B$2:$B$1350, '3. Анализ по МО'!$G6, '2. Результаты'!$H$2:$H$1350, B$1) -> 2 | C6: =COUNTIFS('2. Результаты'!$B$2:$B$1350, '3. Анализ по МО'!$G6, '2. Результаты'!$H$2:$H$1350, C$1) -> 5 | D6: =COUNTIFS('2. Результаты'!$B$2:$B$1350, '3. Анализ по МО'!$G6, '2. Результаты'!$H$2:$H$1350, D$1) -> 1 | E6: =COUNTIFS('2. Результаты'!$B$2:$B$1350, '3. Анализ по МО'!$G6, '2. Результаты'!$H$2:$H$1350, E$1) -> 0 | F6: {=ROW() - ROW(TAKE('3. Анализ по МО'!$A$2:$Q$55, 1)) + 1} -> #NAME? | G6: г. Дагестанские Огни | H6: =SUM('3. Анализ по МО'!$B6:$E6) -> 8 | I6: ='3. Анализ по МО'!$B6 / '3. Анализ по МО'!$H6 -> 25% | J6: ='3. Анализ по МО'!$C6 / '3. Анализ по МО'!$H6 -> 63% | K6: ='3. Анализ по МО'!$D6 / '3. Анализ по МО'!$H6 -> 13% | L6: ='3. Анализ по МО'!$E6 / '3. Анализ по МО'!$H6 -> 0% | M6: =(5 * '3. Анализ по МО'!$B6 + 4 * '3. Анализ по МО'!$C6 + 3 * '3. Анализ по МО'!$D6 + 2 * '3. Анализ по МО'!$E6) / '3. Анализ по МО'!$H6 -> 4.13 | N6: =IF('3. Анализ по МО'!$Q6 = "средний", '3. Анализ по МО'!$M6, NA()) -> 4.13 | O6: =IF('3. Анализ по МО'!$Q6 = "базовый", '3. Анализ по МО'!$M6, NA()) -> #N/A | P6: =IF('3. Анализ по МО'!$Q6 = "ниже базового", '3. Анализ по МО'!$M6, NA()) -> #N/A | Q6: {=INDEX({"ниже базового","базовый","средний","высокий"}, ROUND('3. Анализ по МО'!$M6, 0) - 1)} -> средний
A7: 26 | B7: =COUNTIFS('2. Результаты'!$B$2:$B$1350, '3. Анализ по МО'!$G7, '2. Результаты'!$H$2:$H$1350, B$1) -> 5 | C7: =COUNTIFS('2. Результаты'!$B$2:$B$1350, '3. Анализ по МО'!$G7, '2. Результаты'!$H$2:$H$1350, C$1) -> 9 | D7: =COUNTIFS('2. Результаты'!$B$2:$B$1350, '3. Анализ по МО'!$G7, '2. Результаты'!$H$2:$H$1350, D$1) -> 1 | E7: =COUNTIFS('2. Результаты'!$B$2:$B$1350, '3. Анализ по МО'!$G7, '2. Результаты'!$H$2:$H$1350, E$1) -> 1 | F7: {=ROW() - ROW(TAKE('3. Анализ по МО'!$A$2:$Q$55, 1)) + 1} -> #NAME? | G7: г. Каспийск | H7: =SUM('3. Анализ по МО'!$B7:$E7) -> 16 | I7: ='3. Анализ по МО'!$B7 / '3. Анализ по МО'!$H7 -> 31% | J7: ='3. Анализ по МО'!$C7 / '3. Анализ по МО'!$H7 -> 56% | K7: ='3. Анализ по МО'!$D7 / '3. Анализ по МО'!$H7 -> 6% | L7: ='3. Анализ по МО'!$E7 / '3. Анализ по МО'!$H7 -> 6% | M7: =(5 * '3. Анализ по МО'!$B7 + 4 * '3. Анализ по МО'!$C7 + 3 * '3. Анализ по МО'!$D7 + 2 * '3. Анализ по МО'!$E7) / '3. Анализ по МО'!$H7 -> 4.13 | N7: =IF('3. Анализ по МО'!$Q7 = "средний", '3. Анализ по МО'!$M7, NA()) -> 4.13 | O7: =IF('3. Анализ по МО'!$Q7 = "базовый", '3. Анализ по МО'!$M7, NA()) -> #N/A | P7: =IF('3. Анализ по МО'!$Q7 = "ниже базового", '3. Анализ по МО'!$M7, NA()) -> #N/A | Q7: {=INDEX({"ниже базового","базовый","средний","высокий"}, ROUND('3. Анализ по МО'!$M7, 0) - 1)} -> средний
A8: 2 | B8: =COUNTIFS('2. Результаты'!$B$2:$B$1350, '3. Анализ по МО'!$G8, '2. Результаты'!$H$2:$H$1350, B$1) -> 1 | C8: =COUNTIFS('2. Результаты'!$B$2:$B$1350, '3. Анализ по МО'!$G8, '2. Результаты'!$H$2:$H$1350, C$1) -> 7 | D8: =COUNTIFS('2. Результаты'!$B$2:$B$1350, '3. Анализ по МО'!$G8, '2. Результаты'!$H$2:$H$1350, D$1) -> 0 | E8: =COUNTIFS('2. Результаты'!$B$2:$B$1350, '3. Анализ по МО'!$G8, '2. Результаты'!$H$2:$H$1350, E$1) -> 0 | F8: {=ROW() - ROW(TAKE('3. Анализ по МО'!$A$2:$Q$55, 1)) + 1} -> #NAME? | G8: Кумторкалинский МР | H8: =SUM('3. Анализ по МО'!$B8:$E8) -> 8 | I8: ='3. Анализ по МО'!$B8 / '3. Анализ по МО'!$H8 -> 13% | J8: ='3. Анализ по МО'!$C8 / '3. Анализ по МО'!$H8 -> 88% | K8: ='3. Анализ по МО'!$D8 / '3. Анализ по МО'!$H8 -> 0% | L8: ='3. Анализ по МО'!$E8 / '3. Анализ по МО'!$H8 -> 0% | M8: =(5 * '3. Анализ по МО'!$B8 + 4 * '3. Анализ по МО'!$C8 + 3 * '3. Анализ по МО'!$D8 + 2 * '3. Анализ по МО'!$E8) / '3. Анализ по МО'!$H8 -> 4.13 | N8: =IF('3. Анализ по МО'!$Q8 = "средний", '3. Анализ по МО'!$M8, NA()) -> 4.13 | O8: =IF('3. Анализ по МО'!$Q8 = "базовый", '3. Анализ по МО'!$M8, NA()) -> #N/A | P8: =IF('3. Анализ по МО'!$Q8 = "ниже базового", '3. Анализ по МО'!$M8, NA()) -> #N/A | Q8: {=INDEX({"ниже базового","базовый","средний","высокий"}, ROUND('3. Анализ по МО'!$M8, 0) - 1)} -> средний
A9: 53 | B9: =COUNTIFS('2. Результаты'!$B$2:$B$1350, '3. Анализ по МО'!$G9, '2. Результаты'!$H$2:$H$1350, B$1) -> 2 | C9: =COUNTIFS('2. Результаты'!$B$2:$B$1350, '3. Анализ по МО'!$G9, '2. Результаты'!$H$2:$H$1350, C$1) -> 5 | D9: =COUNTIFS('2. Результаты'!$B$2:$B$1350, '3. Анализ по МО'!$G9, '2. Результаты'!$H$2:$H$1350, D$1) -> 1 | E9: =COUNTIFS('2. Результаты'!$B$2:$B$1350, '3. Анализ по МО'!$G9, '2. Результаты'!$H$2:$H$1350, E$1) -> 0 | F9: {=ROW() - ROW(TAKE('3. Анализ по МО'!$A$2:$Q$55, 1)) + 1} -> #NAME? | G9: г. Кизилюрт | H9: =SUM('3. Анализ по МО'!$B9:$E9) -> 8 | I9: ='3. Анализ по МО'!$B9 / '3. Анализ по МО'!$H9 -> 25% | J9: ='3. Анализ по МО'!$C9 / '3. Анализ по МО'!$H9 -> 63% | K9: ='3. Анализ по МО'!$D9 / '3. Анализ по МО'!$H9 -> 13% | L9: ='3. Анализ по МО'!$E9 / '3. Анализ по МО'!$H9 -> 0% | M9: =(5 * '3. Анализ по МО'!$B9 + 4 * '3. Анализ по МО'!$C9 + 3 * '3. Анализ по МО'!$D9 + 2 * '3. Анализ по МО'!$E9) / '3. Анализ по МО'!$H9 -> 4.13 | N9: =IF('3. Анализ по МО'!$Q9 = "средний", '3. Анализ по МО'!$M9, NA()) -> 4.13 | O9: =IF('3. Анализ по МО'!$Q9 = "базовый", '3. Анализ по МО'!$M9, NA()) -> #N/A | P9: =IF('3. Анализ по МО'!$Q9 = "ниже базового", '3. Анализ по МО'!$M9, NA()) -> #N/A | Q9: {=INDEX({"ниже базового","базовый","средний","высокий"}, ROUND('3. Анализ по МО'!$M9, 0) - 1)} -> средний
A10: 46 | B10: =COUNTIFS('2. Результаты'!$B$2:$B$1350, '3. Анализ по МО'!$G10, '2. Результаты'!$H$2:$H$1350, B$1) -> 10 | C10: =COUNTIFS('2. Результаты'!$B$2:$B$1350, '3. Анализ по МО'!$G10, '2. Результаты'!$H$2:$H$1350, C$1) -> 21 | D10: =COUNTIFS('2. Результаты'!$B$2:$B$1350, '3. Анализ по МО'!$G10, '2. Результаты'!$H$2:$H$1350, D$1) -> 6 | E10: =COUNTIFS('2. Результаты'!$B$2:$B$1350, '3. Анализ по МО'!$G10, '2. Результаты'!$H$2:$H$1350, E$1) -> 1 | F10: {=ROW() - ROW(TAKE('3. Анализ по МО'!$A$2:$Q$55, 1)) + 1} -> #NAME? | G10: Сулейман-Стальский МР | H10: =SUM('3. Анализ по МО'!$B10:$E10) -> 38 | I10: ='3. Анализ по МО'!$B10 / '3. Анализ по МО'!$H10 -> 26% | J10: ='3. Анализ по МО'!$C10 / '3. Анализ по МО'!$H10 -> 55% | K10: ='3. Анализ по МО'!$D10 / '3. Анализ по МО'!$H10 -> 16% | L10: ='3. Анализ по МО'!$E10 / '3. Анализ по МО'!$H10 -> 3% | M10: =(5 * '3. Анализ по МО'!$B10 + 4 * '3. Анализ по МО'!$C10 + 3 * '3. Анализ по МО'!$D10 + 2 * '3. Анализ по МО'!$E10) / '3. Анализ по МО'!$H10 -> 4.05 | N10: =IF('3. Анализ по МО'!$Q10 = "средний", '3. Анализ по МО'!$M10, NA()) -> 4.05 | O10: =IF('3. Анализ по МО'!$Q10 = "базовый", '3. Анализ по МО'!$M10, NA()) -> #N/A | P10: =IF('3. Анализ по МО'!$Q10 = "ниже базового", '3. Анализ по МО'!$M10, NA()) -> #N/A | Q10: {=INDEX({"ниже базового","базовый","средний","высокий"}, ROUND('3. Анализ по МО'!$M10, 0) - 1)} -> средний
A11: 5 | B11: =COUNTIFS('2. Результаты'!$B$2:$B$1350, '3. Анализ по МО'!$G11, '2. Результаты'!$H$2:$H$1350, B$1) -> 2 | C11: =COUNTIFS('2. Результаты'!$B$2:$B$1350, '3. Анализ по МО'!$G11, '2. Результаты'!$H$2:$H$1350, C$1) -> 53 | D11: =COUNTIFS('2. Результаты'!$B$2:$B$1350, '3. Анализ по МО'!$G11, '2. Результаты'!$H$2:$H$1350, D$1) -> 0 | E11: =COUNTIFS('2. Результаты'!$B$2:$B$1350, '3. Анализ по МО'!$G11, '2. Результаты'!$H$2:$H$1350, E$1) -> 0 | F11: {=ROW() - ROW(TAKE('3. Анализ по МО'!$A$2:$Q$55, 1)) + 1} -> #NAME? | G11: Хасавюртовский МР | H11: =SUM('3. Анализ по МО'!$B11:$E11) -> 55 | I11: ='3. Анализ по МО'!$B11 / '3. Анализ по МО'!$H11 -> 4% | J11: ='3. Анализ по МО'!$C11 / '3. Анализ по МО'!$H11 -> 96% | K11: ='3. Анализ по МО'!$D11 / '3. Анализ по МО'!$H11 -> 0% | L11: ='3. Анализ по МО'!$E11 / '3. Анализ по МО'!$H11 -> 0% | M11: =(5 * '3. Анализ по МО'!$B11 + 4 * '3. Анализ по МО'!$C11 + 3 * '3. Анализ по МО'!$D11 + 2 * '3. Анализ по МО'!$E11) / '3. Анализ по МО'!$H11 -> 4.04 | N11: =IF('3. Анализ по МО'!$Q11 = "средний", '3. Анализ по МО'!$M11, NA()) -> 4.04 | O11: =IF('3. Анализ по МО'!$Q11 = "базовый", '3. Анализ по МО'!$M11, NA()) -> #N/A | P11: =IF('3. Анализ по МО'!$Q11 = "ниже базового", '3. Анализ по МО'!$M11, NA()) -> #N/A | Q11: {=INDEX({"ниже базового","базовый","средний","высокий"}, ROUND('3. Анализ по МО'!$M11, 0) - 1)} -> средний
A12: 27 | B12: =COUNTIFS('2. Результаты'!$B$2:$B$1350, '3. Анализ по МО'!$G12, '2. Результаты'!$H$2:$H$1350, B$1) -> 6 | C12: =COUNTIFS('2. Результаты'!$B$2:$B$1350, '3. Анализ по МО'!$G12, '2. Результаты'!$H$2:$H$1350, C$1) -> 23 | D12: =COUNTIFS('2. Результаты'!$B$2:$B$1350, '3. Анализ по МО'!$G12, '2. Результаты'!$H$2:$H$1350, D$1) -> 3 | E12: =COUNTIFS('2. Результаты'!$B$2:$B$1350, '3. Анализ по МО'!$G12, '2. Результаты'!$H$2:$H$1350, E$1) -> 1 | F12: {=ROW() - ROW(TAKE('3. Анализ по МО'!$A$2:$Q$55, 1)) + 1} -> #NAME? | G12: Кайтагский МР | H12: =SUM('3. Анализ по МО'!$B12:$E12) -> 33 | I12: ='3. Анализ по МО'!$B12 / '3. Анализ по МО'!$H12 -> 18% | J12: ='3. Анализ по МО'!$C12 / '3. Анализ по МО'!$H12 -> 70% | K12: ='3. Анализ по МО'!$D12 / '3. Анализ по МО'!$H12 -> 9% | L12: ='3. Анализ по МО'!$E12 / '3. Анализ по МО'!$H12 -> 3% | M12: =(5 * '3. Анализ по МО'!$B12 + 4 * '3. Анализ по МО'!$C12 + 3 * '3. Анализ по МО'!$D12 + 2 * '3. Анализ по МО'!$E12) / '3. Анализ по МО'!$H12 -> 4.03 | N12: =IF('3. Анализ по МО'!$Q12 = "средний", '3. Анализ по МО'!$M12, NA()) -> 4.03 | O12: =IF('3. Анализ по МО'!$Q12 = "базовый", '3. Анализ по МО'!$M12, NA()) -> #N/A | P12: =IF('3. Анализ по МО'!$Q12 = "ниже базового", '3. Анализ по МО'!$M12, NA()) -> #N/A | Q12: {=INDEX({"ниже базового","базовый","средний","высокий"}, ROUND('3. Анализ по МО'!$M12, 0) - 1)} -> средний
A13: 6 | B13: =COUNTIFS('2. Результаты'!$B$2:$B$1350, '3. Анализ по МО'!$G13, '2. Результаты'!$H$2:$H$1350, B$1) -> 26 | C13: =COUNTIFS('2. Результаты'!$B$2:$B$1350, '3. Анализ по МО'!$G13, '2. Результаты'!$H$2:$H$1350, C$1) -> 29 | D13: =COUNTIFS('2. Результаты'!$B$2:$B$1350, '3. Анализ по МО'!$G13, '2. Результаты'!$H$2:$H$1350, D$1) -> 10 | E13: =COUNTIFS('2. Результаты'!$B$2:$B$1350, '3. Анализ по МО'!$G13, '2. Результаты'!$H$2:$H$1350, E$1) -> 7 | F13: {=ROW() - ROW(TAKE('3. Анализ по МО'!$A$2:$Q$55, 1)) + 1} -> #NAME? | G13: г. Махачкала | H13: =SUM('3. Анализ по МО'!$B13:$E13) -> 72 | I13: ='3. Анализ по МО'!$B13 / '3. Анализ по МО'!$H13 -> 36% | J13: ='3. Анализ по МО'!$C13 / '3. Анализ по МО'!$H13 -> 40% | K13: ='3. Анализ по МО'!$D13 / '3. Анализ по МО'!$H13 -> 14% | L13: ='3. Анализ по МО'!$E13 / '3. Анализ по МО'!$H13 -> 10% | M13: =(5 * '3. Анализ по МО'!$B13 + 4 * '3. Анализ по МО'!$C13 + 3 * '3. Анализ по МО'!$D13 + 2 * '3. Анализ по МО'!$E13) / '3. Анализ по МО'!$H13 -> 4.03 | N13: =IF('3. Анализ по МО'!$Q13 = "средний", '3. Анализ по МО'!$M13, NA()) -> 4.03 | O13: =IF('3. Анализ по МО'!$Q13 = "базовый", '3. Анализ по МО'!$M13, NA()) -> #N/A | P13: =IF('3. Анализ по МО'!$Q13 = "ниже базового", '3. Анализ по МО'!$M13, NA()) -> #N/A | Q13: {=INDEX({"ниже базового","базовый","средний","высокий"}, ROUND('3. Анализ по МО'!$M13, 0) - 1)} -> средний
... A55: 44 | B55: =COUNTIFS('2. Результаты'!$B$2:$B$1350, '3. Анализ по МО'!$G55, '2. Результаты'!$H$2:$H$1350, B$1) -> 0 | C55: =COUNTIFS('2. Результаты'!$B$2:$B$1350, '3. Анализ по МО'!$G55, '2. Результаты'!$H$2:$H$1350, C$1) -> 4 | D55: =COUNTIFS('2. Результаты'!$B$2:$B$1350, '3. Анализ по МО'!$G55, '2. Результаты'!$H$2:$H$1350, D$1) -> 9 | E55: =COUNTIFS('2. Результаты'!$B$2:$B$1350, '3. Анализ по МО'!$G55, '2. Результаты'!$H$2:$H$1350, E$1) -> 13 | F55: {=ROW() - ROW(TAKE('3. Анализ по МО'!$A$2:$Q$55, 1)) + 1} -> #NAME? | G55: Тляратинский МР | H55: =SUM('3. Анализ по МО'!$B55:$E55) -> 26 | I55: ='3. Анализ по МО'!$B55 / '3. Анализ по МО'!$H55 -> 0% | J55: ='3. Анализ по МО'!$C55 / '3. Анализ по МО'!$H55 -> 15% | K55: ='3. Анализ по МО'!$D55 / '3. Анализ по МО'!$H55 -> 35% | L55: ='3. Анализ по МО'!$E55 / '3. Анализ по МО'!$H55 -> 50% | M55: =(5 * '3. Анализ по МО'!$B55 + 4 * '3. Анализ по МО'!$C55 + 3 * '3. Анализ по МО'!$D55 + 2 * '3. Анализ по МО'!$E55) / '3. Анализ по МО'!$H55 -> 2.65 | N55: =IF('3. Анализ по МО'!$Q55 = "средний", '3. Анализ по МО'!$M55, NA()) -> #N/A | O55: =IF('3. Анализ по МО'!$Q55 = "базовый", '3. Анализ по МО'!$M55, NA()) -> 2.65 | P55: =IF('3. Анализ по МО'!$Q55 = "ниже базового", '3. Анализ по МО'!$M55, NA()) -> #N/A | Q55: {=INDEX({"ниже базового","базовый","средний","высокий"}, ROUND('3. Анализ по МО'!$M55, 0) - 1)} -> базовый
B56: =SUM('3. Анализ по МО'!$B$2:$B$55) -> 176 | C56: =SUM('3. Анализ по МО'!$C$2:$C$55) -> 796 | D56: =SUM('3. Анализ по МО'!$D$2:$D$55) -> 237 | E56: =SUM('3. Анализ по МО'!$E$2:$E$55) -> 140 | G56: Всего | H56: =SUM('3. Анализ по МО'!$H$2:$H$55) -> 1349 | I56: ='3. Анализ по МО'!$B$56 / '3. Анализ по МО'!$H$56 -> 13.05% | J56: ='3. Анализ по МО'!$C$56 / '3. Анализ по МО'!$H$56 -> 59.01% | K56: ='3. Анализ по МО'!$D$56 / '3. Анализ по МО'!$H$56 -> 17.57% | L56: ='3. Анализ по МО'!$E$56 / '3. Анализ по МО'!$H$56 -> 10.38% | M56: =(5 * '3. Анализ по МО'!$B$56 + 4 * '3. Анализ по МО'!$C$56 + 3 * '3. Анализ по МО'!$D$56 + 2 * '3. Анализ по МО'!$E$56) / '3. Анализ по МО'!$H$56 -> 3.75 | Q56: {=INDEX({"ниже базового","базовый","средний","высокий"}, ROUND('3. Анализ по МО'!$M$56, 0) - 1)} -> средний

Sheet 4. Анализ по РД
B1: Распределение уровней ОО РД по результатам прохождения самодиагностики (ноябрь 2024) | H1: Распределение уровней ОО РД по результатам прохождения самодиагностики (ноябрь 2025)
B2: Уровень | C2: ОО | D2: Доля | H2: Уровень | I2: ОО | J2: Доля | M2: Уровень | N2: ноябрь 2024 | O2: ноябрь 2025
B3: Высокий | C3: 147 | D3: ='4. Анализ по РД'!$C3 / SUM('4. Анализ по РД'!$C$3:$C$6) -> 10.75% | H3: Высокий | I3: =COUNTIF('2. Результаты'!$H$2:$H$1350, '4. Анализ по РД'!$H3) -> 176 | J3: ='4. Анализ по РД'!$I3 / SUM('4. Анализ по РД'!$I$3:$I$6) -> 13.05% | M3: Высокий | N3: =D3 -> 10.75% | O3: =J3 -> 13.05%
B4: Средний | C4: 744 | D4: ='4. Анализ по РД'!$C4 / SUM('4. Анализ по РД'!$C$3:$C$6) -> 54.43% | H4: Средний | I4: =COUNTIF('2. Результаты'!$H$2:$H$1350, '4. Анализ по РД'!$H4) -> 796 | J4: ='4. Анализ по РД'!$I4 / SUM('4. Анализ по РД'!$I$3:$I$6) -> 59.01% | M4: Средний | N4: =D4 -> 54.43% | O4: =J4 -> 59.01%
B5: Базовый | C5: 312 | D5: ='4. Анализ по РД'!$C5 / SUM('4. Анализ по РД'!$C$3:$C$6) -> 22.82% | H5: Базовый | I5: =COUNTIF('2. Результаты'!$H$2:$H$1350, '4. Анализ по РД'!$H5) -> 237 | J5: ='4. Анализ по РД'!$I5 / SUM('4. Анализ по РД'!$I$3:$I$6) -> 17.57% | M5: Базовый | N5: =D5 -> 22.82% | O5: =J5 -> 17.57%
B6: Ниже базового | C6: 164 | D6: ='4. Анализ по РД'!$C6 / SUM('4. Анализ по РД'!$C$3:$C$6) -> 12.00% | H6: Ниже базового | I6: =COUNTIF('2. Результаты'!$H$2:$H$1350, '4. Анализ по РД'!$H6) -> 140 | J6: ='4. Анализ по РД'!$I6 / SUM('4. Анализ по РД'!$I$3:$I$6) -> 10.38% | M6: Ниже базового | N6: =D6 -> 12.00% | O6: =J6 -> 10.38%
B7: Всего ОО | C7: =SUM('4. Анализ по РД'!$C$3:$C$6) -> 1367 | H7: Всего ОО | I7: =SUM('4. Анализ по РД'!$I$3:$I$6) -> 1349

Sheet 5. Направления
A1: Высокий | B1: Средний | C1: Базовый | D1: Ниже базового | E1: № | F1: Магистральное направление / ключевое условие | G1: Всего | H1: Высокий | I1: Средний | J1: Базовый | K1: Ниже базового | L1: Общая оценка (2-5) | M1: Общий уровень
A2: =COUNTIF(INDIRECT("No_Duplicates[" & $F2 & "]"), A$1) -> 0 | B2: =COUNTIF(INDIRECT("No_Duplicates[" & $F2 & "]"), B$1) -> 0 | C2: =COUNTIF(INDIRECT("No_Duplicates[" & $F2 & "]"), C$1) -> 0 | D2: =COUNTIF(INDIRECT("No_Duplicates[" & $F2 & "]"), D$1) -> 0 | E2: 1 | F2: Знание | G2: =SUM(A2:D2) -> 0 | H2: =A2 / $G2 -> #DIV/0! | I2: =B2 / $G2 -> #DIV/0! | J2: =C2 / $G2 -> #DIV/0! | K2: =D2 / $G2 -> #DIV/0! | L2: {=SUM(A2:D2 * {5,4,3,2}) / G2} -> #DIV/0! | M2: {=INDEX({"ниже базового","базовый","средний","высокий"}, ROUND(L2, 0) - 1)} -> #DIV/0!
A3: =COUNTIF(INDIRECT("No_Duplicates[" & $F3 & "]"), A$1) -> 0 | B3: =COUNTIF(INDIRECT("No_Duplicates[" & $F3 & "]"), B$1) -> 0 | C3: =COUNTIF(INDIRECT("No_Duplicates[" & $F3 & "]"), C$1) -> 0 | D3: =COUNTIF(INDIRECT("No_Duplicates[" & $F3 & "]"), D$1) -> 0 | E3: 2 | F3: Здоровье | G3: =SUM(A3:D3) -> 0 | H3: =A3 / $G3 -> #DIV/0! | I3: =B3 / $G3 -> #DIV/0! | J3: =C3 / $G3 -> #DIV/0! | K3: =D3 / $G3 -> #DIV/0! | L3: {=SUM(A3:D3 * {5,4,3,2}) / G3} -> #DIV/0! | M3: {=INDEX({"ниже базового","базовый","средний","высокий"}, ROUND(L3, 0) - 1)} -> #DIV/0!
A4: =COUNTIF(INDIRECT("No_Duplicates[" & $F4 & "]"), A$1) -> 0 | B4: =COUNTIF(INDIRECT("No_Duplicates[" & $F4 & "]"), B$1) -> 0 | C4: =COUNTIF(INDIRECT("No_Duplicates[" & $F4 & "]"), C$1) -> 0 | D4: =COUNTIF(INDIRECT("No_Duplicates[" & $F4 & "]"), D$1) -> 0 | E4: 3 | F4: Творчество | G4: =SUM(A4:D4) -> 0 | H4: =A4 / $G4 -> #DIV/0! | I4: =B4 / $G4 -> #DIV/0! | J4: =C4 / $G4 -> #DIV/0! | K4: =D4 / $G4 -> #DIV/0! | L4: {=SUM(A4:D4 * {5,4,3,2}) / G4} -> #DIV/0! | M4: {=INDEX({"ниже базового","базовый","средний","высокий"}, ROUND(L4, 0) - 1)} -> #DIV/0!
A5: =COUNTIF(INDIRECT("No_Duplicates[" & $F5 & "]"), A$1) -> 0 | B5: =COUNTIF(INDIRECT("No_Duplicates[" & $F5 & "]"), B$1) -> 0 | C5: =COUNTIF(INDIRECT("No_Duplicates[" & $F5 & "]"), C$1) -> 0 | D5: =COUNTIF(INDIRECT("No_Duplicates[" & $F5 & "]"), D$1) -> 0 | E5: 4 | F5: Воспитание | G5: =SUM(A5:D5) -> 0 | H5: =A5 / $G5 -> #DIV/0! | I5: =B5 / $G5 -> #DIV/0! | J5: =C5 / $G5 -> #DIV/0! | K5: =D5 / $G5 -> #DIV/0! | L5: {=SUM(A5:D5 * {5,4,3,2}) / G5} -> #DIV/0! | M5: {=INDEX({"ниже базового","базовый","средний","высокий"}, ROUND(L5, 0) - 1)} -> #DIV/0!
A6: =COUNTIF(INDIRECT("No_Duplicates[" & $F6 & "]"), A$1) -> 0 | B6: =COUNTIF(INDIRECT("No_Duplicates[" & $F6 & "]"), B$1) -> 0 | C6: =COUNTIF(INDIRECT("No_Duplicates[" & $F6 & "]"), C$1) -> 0 | D6: =COUNTIF(INDIRECT("No_Duplicates[" & $F6 & "]"), D$1) -> 0 | E6: 5 | F6: Профориентация | G6: =SUM(A6:D6) -> 0 | H6: =A6 / $G6 -> #DIV/0! | I6: =B6 / $G6 -> #DIV/0! | J6: =C6 / $G6 -> #DIV/0! | K6: =D6 / $G6 -> #DIV/0! | L6: {=SUM(A6:D6 * {5,4,3,2}) / G6} -> #DIV/0! | M6: {=INDEX({"ниже базового","базовый","средний","высокий"}, ROUND(L6, 0) - 1)} -> #DIV/0!
A7: =COUNTIF(INDIRECT("No_Duplicates[" & $F7 & "]"), A$1) -> 0 | B7: =COUNTIF(INDIRECT("No_Duplicates[" & $F7 & "]"), B$1) -> 0 | C7: =COUNTIF(INDIRECT("No_Duplicates[" & $F7 & "]"), C$1) -> 0 | D7: =COUNTIF(INDIRECT("No_Duplicates[" & $F7 & "]"), D$1) -> 0 | E7: 6 | F7: Учитель. Школьная команда | G7: =SUM(A7:D7) -> 0 | H7: =A7 / $G7 -> #DIV/0! | I7: =B7 / $G7 -> #DIV/0! | J7: =C7 / $G7 -> #DIV/0! | K7: =D7 / $G7 -> #DIV/0! | L7: {=SUM(A7:D7 * {5,4,3,2}) / G7} -> #DIV/0! | M7: {=INDEX({"ниже базового","базовый","средний","высокий"}, ROUND(L7, 0) - 1)} -> #DIV/0!
A8: =COUNTIF(INDIRECT("No_Duplicates[" & $F8 & "]"), A$1) -> 0 | B8: =COUNTIF(INDIRECT("No_Duplicates[" & $F8 & "]"), B$1) -> 0 | C8: =COUNTIF(INDIRECT("No_Duplicates[" & $F8 & "]"), C$1) -> 0 | D8: =COUNTIF(INDIRECT("No_Duplicates[" & $F8 & "]"), D$1) -> 0 | E8: 7 | F8: Школьный климат | G8: =SUM(A8:D8) -> 0 | H8: =A8 / $G8 -> #DIV/0! | I8: =B8 / $G8 -> #DIV/0! | J8: =C8 / $G8 -> #DIV/0! | K8: =D8 / $G8 -> #DIV/0! | L8: {=SUM(A8:D8 * {5,4,3,2}) / G8} -> #DIV/0! | M8: {=INDEX({"ниже базового","базовый","средний","высокий"}, ROUND(L8, 0) - 1)} -> #DIV/0!
A9: =COUNTIF(INDIRECT("No_Duplicates[" & $F9 & "]"), A$1) -> 0 | B9: =COUNTIF(INDIRECT("No_Duplicates[" & $F9 & "]"), B$1) -> 0 | C9: =COUNTIF(INDIRECT("No_Duplicates[" & $F9 & "]"), C$1) -> 0 | D9: =COUNTIF(INDIRECT("No_Duplicates[" & $F9 & "]"), D$1) -> 0 | E9: 8 | F9: Образовательная среда | G9: =SUM(A9:D9) -> 0 | H9: =A9 / $G9 -> #DIV/0! | I9: =B9 / $G9 -> #DIV/0! | J9: =C9 / $G9 -> #DIV/0! | K9: =D9 / $G9 -> #DIV/0! | L9: {=SUM(A9:D9 * {5,4,3,2}) / G9} -> #DIV/0! | M9: {=INDEX({"ниже базового","базовый","средний","высокий"}, ROUND(L9, 0) - 1)} -> #DIV/0!

Sheet 5.1. Знание
A1: № | B1: Высокий | C1: Средний | D1: Базовый | E1: Ниже базового | F1: № | G1: Муниципалитет | H1: Прошли | I1: Высокий | J1: Средний | K1: Базовый | L1: Ниже базового | M1: Общая оценка МО (от 2 до 5) | N1: Средний | O1: Базовый | P1: Ниже базового | Q1: Общий уровень МО
A2: 20 | B2: =COUNTIFS('2. Результаты'!$B$2:$B$1350, '5.1. Знание'!$G2, '2. Результаты'!$T$2:$T$1350, B$1) -> 10 | C2: =COUNTIFS('2. Результаты'!$B$2:$B$1350, '5.1. Знание'!$G2, '2. Результаты'!$T$2:$T$1350, C$1) -> 13 | D2: =COUNTIFS('2. Результаты'!$B$2:$B$1350, '5.1. Знание'!$G2, '2. Результаты'!$T$2:$T$1350, D$1) -> 0 | E2: =COUNTIFS('2. Результаты'!$B$2:$B$1350, '5.1. Знание'!$G2, '2. Результаты'!$T$2:$T$1350, E$1) -> 0 | F2: {=ROW() - ROW(TAKE('5.1. Знание'!$A$2:$Q$55, 1)) + 1} -> #NAME? | G2: Кизилюртовский МР | H2: =SUM('5.1. Знание'!$B2:$E2) -> 23 | I2: ='5.1. Знание'!$B2 / '5.1. Знание'!$H2 -> 43% | J2: ='5.1. Знание'!$C2 / '5.1. Знание'!$H2 -> 57% | K2: ='5.1. Знание'!$D2 / '5.1. Знание'!$H2 -> 0% | L2: ='5.1. Знание'!$E2 / '5.1. Знание'!$H2 -> 0% | M2: =(5 * '5.1. Знание'!$B2 + 4 * '5.1. Знание'!$C2 + 3 * '5.1. Знание'!$D2 + 2 * '5.1. Знание'!$E2) / '5.1. Знание'!$H2 -> 4.43 | N2: =IF('5.1. Знание'!$Q2 = "средний", '5.1. Знание'!$M2, NA()) -> 4.43 | O2: =IF('5.1. Знание'!$Q2 = "базовый", '5.1. Знание'!$M2, NA()) -> #N/A | P2: =IF('5.1. Знание'!$Q2 = "ниже базового", '5.1. Знание'!$M2, NA()) -> #N/A | Q2: {=INDEX({"ниже базового","базовый","средний","высокий"}, ROUND('5.1. Знание'!$M2, 0) - 1)} -> средний
